BEGIN:VCALENDAR
VERSION:2.0
PRODID:-//Women&#039;s Club of Lake Jovita - ECPv6.15.3//NONSGML v1.0//EN
CALSCALE:GREGORIAN
METHOD:PUBLISH
X-ORIGINAL-URL:https://womenscluboflakejovita.com
X-WR-CALDESC:Events for Women&#039;s Club of Lake Jovita
REFRESH-INTERVAL;VALUE=DURATION:PT1H
X-Robots-Tag:noindex
X-PUBLISHED-TTL:PT1H
BEGIN:VTIMEZONE
TZID:America/New_York
BEGIN:DAYLIGHT
TZOFFSETFROM:-0500
TZOFFSETTO:-0400
TZNAME:EDT
DTSTART:20250309T070000
END:DAYLIGHT
BEGIN:STANDARD
TZOFFSETFROM:-0400
TZOFFSETTO:-0500
TZNAME:EST
DTSTART:20251102T060000
END:STANDARD
END:VTIMEZONE
BEGIN:VEVENT
DTSTART;TZID=America/New_York:20250207T113000
DTEND;TZID=America/New_York:20250207T150000
DTSTAMP:20260425T172654
CREATED:20250126T043516Z
LAST-MODIFIED:20250126T043518Z
UID:6212-1738927800-1738940400@womenscluboflakejovita.com
SUMMARY:WCLJ Lunch Bunch
DESCRIPTION:We will be heading to Casa Tina in downtown Dunedin\, 365 Main Street\, Dunedin. Reservations will be 12:30pm for 25 people. Deadline to sign up is February 3rd. We will leave early so we can do some shopping first. They always have a street market on Fridays. Great vegetable stand. This is a fun day with lots of walking. Wear comfy shoes. Contact Tinna Knight if you want to join in on the fun and if you can drive a carpool
URL:https://womenscluboflakejovita.com/event/wclj-lunch-bunch-3/
LOCATION:Dunedin\, FL\, 365 Main Street\, Dunedin\, Florida\, United States
ATTACH;FMTTYPE=image/jpeg:https://womenscluboflakejovita.com/wp-content/uploads/2025/01/casa-tina.jpg
END:VEVENT
END:VCALENDAR