BEGIN:VCALENDAR
VERSION:2.0
PRODID:-//Women&#039;s Club of Lake Jovita - ECPv6.15.3//NONSGML v1.0//EN
CALSCALE:GREGORIAN
METHOD:PUBLISH
X-WR-CALNAME:Women&#039;s Club of Lake Jovita
X-ORIGINAL-URL:https://womenscluboflakejovita.com
X-WR-CALDESC:Events for Women&#039;s Club of Lake Jovita
REFRESH-INTERVAL;VALUE=DURATION:PT1H
X-Robots-Tag:noindex
X-PUBLISHED-TTL:PT1H
BEGIN:VTIMEZONE
TZID:America/New_York
BEGIN:DAYLIGHT
TZOFFSETFROM:-0500
TZOFFSETTO:-0400
TZNAME:EDT
DTSTART:20250309T070000
END:DAYLIGHT
BEGIN:STANDARD
TZOFFSETFROM:-0400
TZOFFSETTO:-0500
TZNAME:EST
DTSTART:20251102T060000
END:STANDARD
END:VTIMEZONE
BEGIN:VEVENT
DTSTART;TZID=America/New_York:20250213T170000
DTEND;TZID=America/New_York:20250213T210000
DTSTAMP:20260425T172654
CREATED:20250126T042129Z
LAST-MODIFIED:20250126T042131Z
UID:6206-1739466000-1739480400@womenscluboflakejovita.com
SUMMARY:WCLJ February General Meeting: An Evening with Cher
DESCRIPTION:Join us for a spectacular night of glitz\, glamour\, and unforgettable entertainment as we welcome the award-winning Cher impersonator Betty Atchison\, straight from Vegas. \n\n\n\nBetty is renowned as one of the top Cher impersonators\, captivating audiences with her stunning looks and incredible vocal talent. Get ready to be dazzled as she brings the magic of Cher to life with her show-stopping performance of all of your favorite hits. \n\n\n\nDon’t miss this fabulous night filled with laughter\, music\, and memories!
URL:https://womenscluboflakejovita.com/event/wclj-february-general-meeting-an-evening-with-cher/
LOCATION:Lake Jovita GCC\, 12900 Lake Jovita Blvd\, Dade City\, FL\, 33525\, United States
ATTACH;FMTTYPE=image/jpeg:https://womenscluboflakejovita.com/wp-content/uploads/2025/01/Cher.jpg
END:VEVENT
END:VCALENDAR