BEGIN:VCALENDAR
VERSION:2.0
PRODID:-//Women&#039;s Club of Lake Jovita - ECPv6.15.3//NONSGML v1.0//EN
CALSCALE:GREGORIAN
METHOD:PUBLISH
X-WR-CALNAME:Women&#039;s Club of Lake Jovita
X-ORIGINAL-URL:https://womenscluboflakejovita.com
X-WR-CALDESC:Events for Women&#039;s Club of Lake Jovita
REFRESH-INTERVAL;VALUE=DURATION:PT1H
X-Robots-Tag:noindex
X-PUBLISHED-TTL:PT1H
BEGIN:VTIMEZONE
TZID:America/New_York
BEGIN:DAYLIGHT
TZOFFSETFROM:-0500
TZOFFSETTO:-0400
TZNAME:EDT
DTSTART:20250309T070000
END:DAYLIGHT
BEGIN:STANDARD
TZOFFSETFROM:-0400
TZOFFSETTO:-0500
TZNAME:EST
DTSTART:20251102T060000
END:STANDARD
END:VTIMEZONE
BEGIN:VEVENT
DTSTART;TZID=America/New_York:20250214T110000
DTEND;TZID=America/New_York:20250214T120000
DTSTAMP:20260425T173118
CREATED:20250126T045854Z
LAST-MODIFIED:20250126T045856Z
UID:6223-1739530800-1739534400@womenscluboflakejovita.com
SUMMARY:17th ANNUAL VALENTINE'S DAY WEDDING CEREMONY
DESCRIPTION:Pasco Clerk & Comptroller Nikki Alvarez Sowles\, Esq.\, prepares for the Office’s 17th annual Valentine’s Day Wedding Ceremony. The final day to register for the ceremony is February 11th.   \n\n\n\nThe event is free and will be limited to 25 couples this year. Married couples who are interested in renewing their vows are also welcome to register. Family members and friends are invited to attend. 
URL:https://womenscluboflakejovita.com/event/17th-annual-valentines-day-wedding-ceremony/
LOCATION:Pasco County Courthouse\, 37918 Meridian Avenue\, Dade City\, Florida\, 33525\, United States
ATTACH;FMTTYPE=image/jpeg:https://womenscluboflakejovita.com/wp-content/uploads/2025/01/Valentine.jpg
END:VEVENT
END:VCALENDAR