BEGIN:VCALENDAR
VERSION:2.0
PRODID:-//Women&#039;s Club of Lake Jovita - ECPv6.15.3//NONSGML v1.0//EN
CALSCALE:GREGORIAN
METHOD:PUBLISH
X-WR-CALNAME:Women&#039;s Club of Lake Jovita
X-ORIGINAL-URL:https://womenscluboflakejovita.com
X-WR-CALDESC:Events for Women&#039;s Club of Lake Jovita
REFRESH-INTERVAL;VALUE=DURATION:PT1H
X-Robots-Tag:noindex
X-PUBLISHED-TTL:PT1H
BEGIN:VTIMEZONE
TZID:America/New_York
BEGIN:DAYLIGHT
TZOFFSETFROM:-0500
TZOFFSETTO:-0400
TZNAME:EDT
DTSTART:20250309T070000
END:DAYLIGHT
BEGIN:STANDARD
TZOFFSETFROM:-0400
TZOFFSETTO:-0500
TZNAME:EST
DTSTART:20251102T060000
END:STANDARD
END:VTIMEZONE
BEGIN:VEVENT
DTSTART;TZID=America/New_York:20250305T170000
DTEND;TZID=America/New_York:20250305T170000
DTSTAMP:20260425T154045
CREATED:20250305T004549Z
LAST-MODIFIED:20250305T004554Z
UID:6254-1741194000-1741194000@womenscluboflakejovita.com
SUMMARY:Lake Jovita HOA Informational Meeting
DESCRIPTION:An informational meeting will be held to discuss the potential purchase of the land where the HOA Welcome Center currently resides. They will also be discussing the company Traffic Logix as a potential option to reduce speeding in Lake Jovita. Questions and comments will be taken at this meeting about the above subjects.
URL:https://womenscluboflakejovita.com/event/lake-jovita-hoa-informational-meeting/
LOCATION:Lake Jovita HOA Welcome Center\, 12330 Lake Jovita Blvd\, Dade City\, Florida\, 33525\, United States
END:VEVENT
END:VCALENDAR