BEGIN:VCALENDAR
VERSION:2.0
PRODID:-//Women&#039;s Club of Lake Jovita - ECPv6.15.3//NONSGML v1.0//EN
CALSCALE:GREGORIAN
METHOD:PUBLISH
X-WR-CALNAME:Women&#039;s Club of Lake Jovita
X-ORIGINAL-URL:https://womenscluboflakejovita.com
X-WR-CALDESC:Events for Women&#039;s Club of Lake Jovita
REFRESH-INTERVAL;VALUE=DURATION:PT1H
X-Robots-Tag:noindex
X-PUBLISHED-TTL:PT1H
BEGIN:VTIMEZONE
TZID:America/New_York
BEGIN:DAYLIGHT
TZOFFSETFROM:-0500
TZOFFSETTO:-0400
TZNAME:EDT
DTSTART:20250309T070000
END:DAYLIGHT
BEGIN:STANDARD
TZOFFSETFROM:-0400
TZOFFSETTO:-0500
TZNAME:EST
DTSTART:20251102T060000
END:STANDARD
END:VTIMEZONE
BEGIN:VEVENT
DTSTART;TZID=America/New_York:20250315T160000
DTEND;TZID=America/New_York:20250315T190000
DTSTAMP:20260425T154045
CREATED:20240919T014522Z
LAST-MODIFIED:20250305T000143Z
UID:6074-1742054400-1742065200@womenscluboflakejovita.com
SUMMARY:Cars in the Park
DESCRIPTION:Join your neighbors and friends for fun at the annual Lake Jovita Cars In The Park!
URL:https://womenscluboflakejovita.com/event/car-in-the-park/
LOCATION:Florida
ATTACH;FMTTYPE=image/jpeg:https://womenscluboflakejovita.com/wp-content/uploads/2025/03/20250303_130911-scaled-e1741132309421.jpg
END:VEVENT
END:VCALENDAR