BEGIN:VCALENDAR
VERSION:2.0
PRODID:-//Women&#039;s Club of Lake Jovita - ECPv6.15.3//NONSGML v1.0//EN
CALSCALE:GREGORIAN
METHOD:PUBLISH
X-ORIGINAL-URL:https://womenscluboflakejovita.com
X-WR-CALDESC:Events for Women&#039;s Club of Lake Jovita
REFRESH-INTERVAL;VALUE=DURATION:PT1H
X-Robots-Tag:noindex
X-PUBLISHED-TTL:PT1H
BEGIN:VTIMEZONE
TZID:America/New_York
BEGIN:DAYLIGHT
TZOFFSETFROM:-0500
TZOFFSETTO:-0400
TZNAME:EDT
DTSTART:20250309T070000
END:DAYLIGHT
BEGIN:STANDARD
TZOFFSETFROM:-0400
TZOFFSETTO:-0500
TZNAME:EST
DTSTART:20251102T060000
END:STANDARD
END:VTIMEZONE
BEGIN:VEVENT
DTSTART;TZID=America/New_York:20250510T100000
DTEND;TZID=America/New_York:20250511T170000
DTSTAMP:20260425T122032
CREATED:20250508T005954Z
LAST-MODIFIED:20250508T010051Z
UID:6337-1746871200-1746982800@womenscluboflakejovita.com
SUMMARY:Wesley Chapel Arts Festival
DESCRIPTION:
URL:https://womenscluboflakejovita.com/event/wesley-chapel-arts-festival/
LOCATION:The Shops at Wiregrass\, 28211 Paseo Drive\, Wesley Chapel\, Florida\, 33545\, United States
ATTACH;FMTTYPE=image/jpeg:https://womenscluboflakejovita.com/wp-content/uploads/2025/05/wesley-chapel-may-2025-8.5x11-scaled.jpg
END:VEVENT
BEGIN:VEVENT
DTSTART;TZID=America/New_York:20250511T000000
DTEND;TZID=America/New_York:20250511T235959
DTSTAMP:20260425T122032
CREATED:20250507T201858Z
LAST-MODIFIED:20250507T201902Z
UID:6317-1746921600-1747007999@womenscluboflakejovita.com
SUMMARY:Mother's Day
DESCRIPTION:Happy Mother’s Day
URL:https://womenscluboflakejovita.com/event/mothers-day-2/
LOCATION:Florida
ATTACH;FMTTYPE=image/jpeg:https://womenscluboflakejovita.com/wp-content/uploads/2025/05/mothers-day.jpg
END:VEVENT
BEGIN:VEVENT
DTSTART;TZID=America/New_York:20250511T110000
DTEND;TZID=America/New_York:20250511T150000
DTSTAMP:20260425T122032
CREATED:20250507T203046Z
LAST-MODIFIED:20250507T203050Z
UID:6320-1746961200-1746975600@womenscluboflakejovita.com
SUMMARY:Mother's Day Brunch
DESCRIPTION:Enjoy a great brunch at the Lake Jovita Golf & Country Club. Reservations recommended\, 352-588-2233 ext 313
URL:https://womenscluboflakejovita.com/event/mothers-day-brunch/
LOCATION:LJGCC\, 12900 Lake Jovita Blvd\, Dade City\, Florida\, 33525\, United States
ATTACH;FMTTYPE=image/jpeg:https://womenscluboflakejovita.com/wp-content/uploads/2025/05/Mothers-day-brunch-e1555602808985.jpg
END:VEVENT
END:VCALENDAR