BEGIN:VCALENDAR
VERSION:2.0
PRODID:-//Women&#039;s Club of Lake Jovita - ECPv6.15.3//NONSGML v1.0//EN
CALSCALE:GREGORIAN
METHOD:PUBLISH
X-WR-CALNAME:Women&#039;s Club of Lake Jovita
X-ORIGINAL-URL:https://womenscluboflakejovita.com
X-WR-CALDESC:Events for Women&#039;s Club of Lake Jovita
REFRESH-INTERVAL;VALUE=DURATION:PT1H
X-Robots-Tag:noindex
X-PUBLISHED-TTL:PT1H
BEGIN:VTIMEZONE
TZID:America/New_York
BEGIN:DAYLIGHT
TZOFFSETFROM:-0500
TZOFFSETTO:-0400
TZNAME:EDT
DTSTART:20250309T070000
END:DAYLIGHT
BEGIN:STANDARD
TZOFFSETFROM:-0400
TZOFFSETTO:-0500
TZNAME:EST
DTSTART:20251102T060000
END:STANDARD
END:VTIMEZONE
BEGIN:VEVENT
DTSTART;TZID=America/New_York:20250520T160000
DTEND;TZID=America/New_York:20250520T170000
DTSTAMP:20260425T122011
CREATED:20250507T205932Z
LAST-MODIFIED:20250507T205937Z
UID:6326-1747756800-1747760400@womenscluboflakejovita.com
SUMMARY:WCLJ Book Club
DESCRIPTION:The next WCLJ Book Club meeting is Tuesday\, May 20th at 4:00 pm in the Grill Room. The May book title is The Girl from Berlin: A Novel\,  by Ronald H Balson.
URL:https://womenscluboflakejovita.com/event/wclj-book-club-14/
LOCATION:LJGCC\, 12900 Lake Jovita Blvd\, Dade City\, Florida\, 33525\, United States
ATTACH;FMTTYPE=image/jpeg:https://womenscluboflakejovita.com/wp-content/uploads/2025/05/girl-from-berlin.jpg
END:VEVENT
END:VCALENDAR