BEGIN:VCALENDAR
VERSION:2.0
PRODID:-//Women&#039;s Club of Lake Jovita - ECPv6.15.3//NONSGML v1.0//EN
CALSCALE:GREGORIAN
METHOD:PUBLISH
X-WR-CALNAME:Women&#039;s Club of Lake Jovita
X-ORIGINAL-URL:https://womenscluboflakejovita.com
X-WR-CALDESC:Events for Women&#039;s Club of Lake Jovita
REFRESH-INTERVAL;VALUE=DURATION:PT1H
X-Robots-Tag:noindex
X-PUBLISHED-TTL:PT1H
BEGIN:VTIMEZONE
TZID:America/New_York
BEGIN:DAYLIGHT
TZOFFSETFROM:-0500
TZOFFSETTO:-0400
TZNAME:EDT
DTSTART:20250309T070000
END:DAYLIGHT
BEGIN:STANDARD
TZOFFSETFROM:-0400
TZOFFSETTO:-0500
TZNAME:EST
DTSTART:20251102T060000
END:STANDARD
END:VTIMEZONE
BEGIN:VEVENT
DTSTART;TZID=America/New_York:20250521T113000
DTEND;TZID=America/New_York:20250521T130000
DTSTAMP:20260425T122011
CREATED:20250508T013506Z
LAST-MODIFIED:20250508T013618Z
UID:6353-1747827000-1747832400@womenscluboflakejovita.com
SUMMARY:WCLJ Stitcher's Club
DESCRIPTION:Join the Women’s Club of Lake Jovita’s Stitcher’s Club on Wednesday’s at 11:45 am at the Lake Jovita Club house for lunch\, followed  by stitching\, knitting\, crochet etc. Come out and join our group for some stitching fun! Beginners welcome!
URL:https://womenscluboflakejovita.com/event/wclj-stitchers-club-29/
LOCATION:LJGCC\, 12900 Lake Jovita Blvd\, Dade City\, Florida\, 33525\, United States
ATTACH;FMTTYPE=image/png:https://womenscluboflakejovita.com/wp-content/uploads/2024/02/stitch.png
END:VEVENT
END:VCALENDAR