BEGIN:VCALENDAR
VERSION:2.0
PRODID:-//Women&#039;s Club of Lake Jovita - ECPv6.15.3//NONSGML v1.0//EN
CALSCALE:GREGORIAN
METHOD:PUBLISH
X-ORIGINAL-URL:https://womenscluboflakejovita.com
X-WR-CALDESC:Events for Women&#039;s Club of Lake Jovita
REFRESH-INTERVAL;VALUE=DURATION:PT1H
X-Robots-Tag:noindex
X-PUBLISHED-TTL:PT1H
BEGIN:VTIMEZONE
TZID:America/New_York
BEGIN:DAYLIGHT
TZOFFSETFROM:-0500
TZOFFSETTO:-0400
TZNAME:EDT
DTSTART:20250309T070000
END:DAYLIGHT
BEGIN:STANDARD
TZOFFSETFROM:-0400
TZOFFSETTO:-0500
TZNAME:EST
DTSTART:20251102T060000
END:STANDARD
END:VTIMEZONE
BEGIN:VEVENT
DTSTART;TZID=America/New_York:20250704T000000
DTEND;TZID=America/New_York:20250704T235959
DTSTAMP:20260425T083551
CREATED:20250701T003938Z
LAST-MODIFIED:20250701T003943Z
UID:6389-1751587200-1751673599@womenscluboflakejovita.com
SUMMARY:Independence Day
DESCRIPTION:
URL:https://womenscluboflakejovita.com/event/independence-day-2/
LOCATION:Florida
ATTACH;FMTTYPE=image/jpeg:https://womenscluboflakejovita.com/wp-content/uploads/2024/02/4THOFJULY.jpg
END:VEVENT
BEGIN:VEVENT
DTSTART;TZID=America/New_York:20250704T160000
DTEND;TZID=America/New_York:20250704T210000
DTSTAMP:20260425T083551
CREATED:20250701T005207Z
LAST-MODIFIED:20250701T005210Z
UID:6391-1751644800-1751662800@womenscluboflakejovita.com
SUMMARY:July 4th Fireworks
DESCRIPTION:Get ready for an unforgettable Independence Day celebration at S & S Ranch! Join us for a night of live music\, great vibes\, and a spectacular fireworks show to light up the sky! \n\n\n\n📅 Date: July 4th📍 Location: S & S Ranch – 41003 River Rd\, Dade City\, FL⏰ Gates Open: 4 PM💲 Entry: $20 per person🎟️ Tickets: Available in advance at Twisted Oak or at the gate on the day of the event. \n\n\n\nBring your friends\, family\, and festive spirit for a night of music\, fun\, and fireworks like no other! \n\n\n\n📞 Contact Us Today: (863) 698-3512🌐 Visit Our Website: ssranchwedding.com
URL:https://womenscluboflakejovita.com/event/july-4th-fireworks/
LOCATION:S&S Ranch\, 41003 River Rd\, Dade City\, Florida\, United States
ATTACH;FMTTYPE=image/jpeg:https://womenscluboflakejovita.com/wp-content/uploads/2025/06/July4-fireworks.jpg
ORGANIZER;CN="S&#038%3BS Ranch":MAILTO:ssranchwedding@gmail.com
END:VEVENT
END:VCALENDAR