BEGIN:VCALENDAR
VERSION:2.0
PRODID:-//Women&#039;s Club of Lake Jovita - ECPv6.15.3//NONSGML v1.0//EN
CALSCALE:GREGORIAN
METHOD:PUBLISH
X-ORIGINAL-URL:https://womenscluboflakejovita.com
X-WR-CALDESC:Events for Women&#039;s Club of Lake Jovita
REFRESH-INTERVAL;VALUE=DURATION:PT1H
X-Robots-Tag:noindex
X-PUBLISHED-TTL:PT1H
BEGIN:VTIMEZONE
TZID:America/New_York
BEGIN:DAYLIGHT
TZOFFSETFROM:-0500
TZOFFSETTO:-0400
TZNAME:EDT
DTSTART:20250309T070000
END:DAYLIGHT
BEGIN:STANDARD
TZOFFSETFROM:-0400
TZOFFSETTO:-0500
TZNAME:EST
DTSTART:20251102T060000
END:STANDARD
END:VTIMEZONE
BEGIN:VEVENT
DTSTART;TZID=America/New_York:20251206T080000
DTEND;TZID=America/New_York:20251206T120000
DTSTAMP:20260424T230104
CREATED:20251104T025712Z
LAST-MODIFIED:20251128T194717Z
UID:6519-1765008000-1765022400@womenscluboflakejovita.com
SUMMARY:19th Annual 5K Reindeer Run
DESCRIPTION:Join the many here at Lake Jovita on Saturday\, December 6th\, 2025 for a morning full of fun\, fitness\, and holiday spirit\, all benefiting Sunrise of Pasco County Domestic & Sexual Violence Center.💜 Registration opens at 7:00 AM and the race begins at 8:00 AM!🎁 Register by November 21st to get your event shirt!✨ Enjoy the costume contest\, raffle\, and prizes for all ages.📍 12900 Lake Jovita Blvd\, Dade City\, FL 33525Register online or at the Lake Jovita Fitness Center—scan the QR code to sign up! Click on the following to view additional information- Lake Jovita 5K Reindeer Run
URL:https://womenscluboflakejovita.com/event/19th-annual-5k-reindeer-run/
LOCATION:LJGCC\, 12900 Lake Jovita Blvd\, Dade City\, Florida\, 33525\, United States
ATTACH;FMTTYPE=image/jpeg:https://womenscluboflakejovita.com/wp-content/uploads/2025/11/20251127_110903-scaled.jpg
END:VEVENT
BEGIN:VEVENT
DTSTART;TZID=America/New_York:20251206T100000
DTEND;TZID=America/New_York:20251206T160000
DTSTAMP:20260424T230104
CREATED:20250927T020835Z
LAST-MODIFIED:20250927T020838Z
UID:6477-1765015200-1765036800@womenscluboflakejovita.com
SUMMARY:Pioneer Christmas and Vintage Market
DESCRIPTION:
URL:https://womenscluboflakejovita.com/event/pioneer-christmas-and-vintage-market-2/
LOCATION:Pioneer Village Museum\, 15602 Pioneer Museum Rd.\, Dade City\, Florida\, 33523
ATTACH;FMTTYPE=image/png:https://womenscluboflakejovita.com/wp-content/uploads/2025/09/2025_Pioneer_Christmas_flier.png
END:VEVENT
BEGIN:VEVENT
DTSTART;TZID=America/New_York:20251206T170000
DTEND;TZID=America/New_York:20251206T190000
DTSTAMP:20260424T230104
CREATED:20251104T030739Z
LAST-MODIFIED:20251110T173722Z
UID:6522-1765040400-1765047600@womenscluboflakejovita.com
SUMMARY:Lake Jovita Christmas Tree Lighting
DESCRIPTION:
URL:https://womenscluboflakejovita.com/event/lake-jovita-christmas-tree-lighting/
LOCATION:LJGCC\, 12900 Lake Jovita Blvd\, Dade City\, Florida\, 33525\, United States
ATTACH;FMTTYPE=image/png:https://womenscluboflakejovita.com/wp-content/uploads/2025/11/IMG_2004.png
END:VEVENT
END:VCALENDAR