BEGIN:VCALENDAR
VERSION:2.0
PRODID:-//Women&#039;s Club of Lake Jovita - ECPv6.15.3//NONSGML v1.0//EN
CALSCALE:GREGORIAN
METHOD:PUBLISH
X-WR-CALNAME:Women&#039;s Club of Lake Jovita
X-ORIGINAL-URL:https://womenscluboflakejovita.com
X-WR-CALDESC:Events for Women&#039;s Club of Lake Jovita
REFRESH-INTERVAL;VALUE=DURATION:PT1H
X-Robots-Tag:noindex
X-PUBLISHED-TTL:PT1H
BEGIN:VTIMEZONE
TZID:America/New_York
BEGIN:DAYLIGHT
TZOFFSETFROM:-0500
TZOFFSETTO:-0400
TZNAME:EDT
DTSTART:20260308T070000
END:DAYLIGHT
BEGIN:STANDARD
TZOFFSETFROM:-0400
TZOFFSETTO:-0500
TZNAME:EST
DTSTART:20261101T060000
END:STANDARD
END:VTIMEZONE
BEGIN:VEVENT
DTSTART;TZID=America/New_York:20260117T090000
DTEND;TZID=America/New_York:20260118T170000
DTSTAMP:20260424T211706
CREATED:20260104T013505Z
LAST-MODIFIED:20260104T013507Z
UID:6599-1768640400-1768755600@womenscluboflakejovita.com
SUMMARY:Florida Manatee Festival
DESCRIPTION:Celebrate the sea cows at this two-day festival\, featuring manatee tours\, local bites and vendor wares inspired by the beloved gentle giants.
URL:https://womenscluboflakejovita.com/event/florida-manatee-festival/
LOCATION:Downtown Crystal River\, Crystal River\, Florida\, United States
ATTACH;FMTTYPE=image/webp:https://womenscluboflakejovita.com/wp-content/uploads/2026/01/Manatee-Festival-logo.png.webp
END:VEVENT
END:VCALENDAR