BEGIN:VCALENDAR
VERSION:2.0
PRODID:-//Women&#039;s Club of Lake Jovita - ECPv6.15.3//NONSGML v1.0//EN
CALSCALE:GREGORIAN
METHOD:PUBLISH
X-ORIGINAL-URL:https://womenscluboflakejovita.com
X-WR-CALDESC:Events for Women&#039;s Club of Lake Jovita
REFRESH-INTERVAL;VALUE=DURATION:PT1H
X-Robots-Tag:noindex
X-PUBLISHED-TTL:PT1H
BEGIN:VTIMEZONE
TZID:America/New_York
BEGIN:DAYLIGHT
TZOFFSETFROM:-0500
TZOFFSETTO:-0400
TZNAME:EDT
DTSTART:20260308T070000
END:DAYLIGHT
BEGIN:STANDARD
TZOFFSETFROM:-0400
TZOFFSETTO:-0500
TZNAME:EST
DTSTART:20261101T060000
END:STANDARD
END:VTIMEZONE
BEGIN:VEVENT
DTSTART;TZID=America/New_York:20260119T000000
DTEND;TZID=America/New_York:20260119T235959
DTSTAMP:20260424T211818
CREATED:20260104T010046Z
LAST-MODIFIED:20260104T010049Z
UID:6586-1768780800-1768867199@womenscluboflakejovita.com
SUMMARY:Martin Luther King Day
DESCRIPTION:
URL:https://womenscluboflakejovita.com/event/martin-luther-king-day/
LOCATION:Florida
ATTACH;FMTTYPE=image/webp:https://womenscluboflakejovita.com/wp-content/uploads/2026/01/mlkday5.webp
END:VEVENT
END:VCALENDAR