BEGIN:VCALENDAR
VERSION:2.0
PRODID:-//Women&#039;s Club of Lake Jovita - ECPv6.15.3//NONSGML v1.0//EN
CALSCALE:GREGORIAN
METHOD:PUBLISH
X-ORIGINAL-URL:https://womenscluboflakejovita.com
X-WR-CALDESC:Events for Women&#039;s Club of Lake Jovita
REFRESH-INTERVAL;VALUE=DURATION:PT1H
X-Robots-Tag:noindex
X-PUBLISHED-TTL:PT1H
BEGIN:VTIMEZONE
TZID:America/New_York
BEGIN:DAYLIGHT
TZOFFSETFROM:-0500
TZOFFSETTO:-0400
TZNAME:EDT
DTSTART:20260308T070000
END:DAYLIGHT
BEGIN:STANDARD
TZOFFSETFROM:-0400
TZOFFSETTO:-0500
TZNAME:EST
DTSTART:20261101T060000
END:STANDARD
END:VTIMEZONE
BEGIN:VEVENT
DTSTART;TZID=America/New_York:20260207T100000
DTEND;TZID=America/New_York:20260207T160000
DTSTAMP:20260424T194947
CREATED:20260104T014751Z
LAST-MODIFIED:20260104T014752Z
UID:6604-1770458400-1770480000@womenscluboflakejovita.com
SUMMARY:Farm Festival & Quilt Show
DESCRIPTION:
URL:https://womenscluboflakejovita.com/event/farm-festival-quilt-show/
LOCATION:Pioneer Village Museum\, 15602 Pioneer Museum Rd.\, Dade City\, Florida\, 33523
ATTACH;FMTTYPE=image/png:https://womenscluboflakejovita.com/wp-content/uploads/2026/01/2026_Farm_Festival_Quilt_Show-1.png
END:VEVENT
END:VCALENDAR