BEGIN:VCALENDAR
VERSION:2.0
PRODID:-//Women&#039;s Club of Lake Jovita - ECPv6.15.3//NONSGML v1.0//EN
CALSCALE:GREGORIAN
METHOD:PUBLISH
X-WR-CALNAME:Women&#039;s Club of Lake Jovita
X-ORIGINAL-URL:https://womenscluboflakejovita.com
X-WR-CALDESC:Events for Women&#039;s Club of Lake Jovita
REFRESH-INTERVAL;VALUE=DURATION:PT1H
X-Robots-Tag:noindex
X-PUBLISHED-TTL:PT1H
BEGIN:VTIMEZONE
TZID:America/New_York
BEGIN:DAYLIGHT
TZOFFSETFROM:-0500
TZOFFSETTO:-0400
TZNAME:EDT
DTSTART:20260308T070000
END:DAYLIGHT
BEGIN:STANDARD
TZOFFSETFROM:-0400
TZOFFSETTO:-0500
TZNAME:EST
DTSTART:20261101T060000
END:STANDARD
END:VTIMEZONE
BEGIN:VEVENT
DTSTART;TZID=America/New_York:20260214T100000
DTEND;TZID=America/New_York:20260329T180000
DTSTAMP:20260424T180727
CREATED:20260306T025942Z
LAST-MODIFIED:20260306T025945Z
UID:6655-1771063200-1774807200@womenscluboflakejovita.com
SUMMARY:Bay Area Renaissance Festival
DESCRIPTION:The festival invites guests to step into a 16th-century European village with 15 stages of entertainment\, over 100 talented artisans\, and immersive historical experiences.
URL:https://womenscluboflakejovita.com/event/bay-area-renaissance-festival-2/
LOCATION:Renaissance Festival\, 12838 Auton Rd.\, Dade City\, Florida\, United States
ATTACH;FMTTYPE=image/png:https://womenscluboflakejovita.com/wp-content/uploads/2026/03/resfair.png
END:VEVENT
BEGIN:VEVENT
DTSTART;TZID=America/New_York:20260227T170000
DTEND;TZID=America/New_York:20260227T190000
DTSTAMP:20260424T180727
CREATED:20260208T025300Z
LAST-MODIFIED:20260208T025302Z
UID:6628-1772211600-1772218800@womenscluboflakejovita.com
SUMMARY:Women's Club of Lake Jovita Daytime Adventures
DESCRIPTION:Save the date for our next fun-filled outing\, “Sip & Step\,” happening on Friday\, February 27th\, from 5 to 7 PM at our clubhouse. Join us for tasty appetizers\, lively happy hour vibes\, and energetic line dancing led by instructor Bobbi. It’s the perfect chance to connect\, unwind\, and have some fun—Look for sign up invitation and be part of the fun!
URL:https://womenscluboflakejovita.com/event/womens-club-of-lake-jovita-daytime-adventures/
LOCATION:LJGCC\, 12900 Lake Jovita Blvd\, Dade City\, Florida\, 33525\, United States
ATTACH;FMTTYPE=image/png:https://womenscluboflakejovita.com/wp-content/uploads/2026/02/line-dance.png
END:VEVENT
END:VCALENDAR