BEGIN:VCALENDAR
VERSION:2.0
PRODID:-//Women&#039;s Club of Lake Jovita - ECPv6.15.3//NONSGML v1.0//EN
CALSCALE:GREGORIAN
METHOD:PUBLISH
X-WR-CALNAME:Women&#039;s Club of Lake Jovita
X-ORIGINAL-URL:https://womenscluboflakejovita.com
X-WR-CALDESC:Events for Women&#039;s Club of Lake Jovita
REFRESH-INTERVAL;VALUE=DURATION:PT1H
X-Robots-Tag:noindex
X-PUBLISHED-TTL:PT1H
BEGIN:VTIMEZONE
TZID:America/New_York
BEGIN:DAYLIGHT
TZOFFSETFROM:-0500
TZOFFSETTO:-0400
TZNAME:EDT
DTSTART:20250309T070000
END:DAYLIGHT
BEGIN:STANDARD
TZOFFSETFROM:-0400
TZOFFSETTO:-0500
TZNAME:EST
DTSTART:20251102T060000
END:STANDARD
END:VTIMEZONE
BEGIN:VEVENT
DTSTART;TZID=America/New_York:20250716T113000
DTEND;TZID=America/New_York:20250716T130000
DTSTAMP:20260425T103209
CREATED:20250701T012023Z
LAST-MODIFIED:20250701T012027Z
UID:6409-1752665400-1752670800@womenscluboflakejovita.com
SUMMARY:Women's Club of Lake Jovita Stitcher's Club
DESCRIPTION:Join the Stitcher’s Club every Wednesday at the LJ Clubhouse for lunch\, followed by stitching\, knitting\, crochet etc.
URL:https://womenscluboflakejovita.com/event/womens-club-of-lake-jovita-stitchers-club-3/
LOCATION:LJGCC\, 12900 Lake Jovita Blvd\, Dade City\, Florida\, 33525\, United States
ATTACH;FMTTYPE=image/png:https://womenscluboflakejovita.com/wp-content/uploads/2024/02/stitch.png
END:VEVENT
BEGIN:VEVENT
DTSTART;TZID=America/New_York:20250720T110000
DTEND;TZID=America/New_York:20250720T200000
DTSTAMP:20260425T103209
CREATED:20250701T005941Z
LAST-MODIFIED:20250701T010502Z
UID:6398-1753009200-1753041600@womenscluboflakejovita.com
SUMMARY:Tampa Bay Ice Cream Festival
DESCRIPTION:The Tampa Bay Ice Cream Festival is returning to the St. Pete Pier on Sunday\, July 20\, 2025\, from 11:00 AM to 8:00 PM\, in celebration of National Ice Cream Day. This free\, family-friendly event will take place at Spa Beach Park\, located at 600 2nd Ave NE\, St. Petersburg\, FL 33701.
URL:https://womenscluboflakejovita.com/event/tampa-bay-ice-cream-festival/
LOCATION:St. Pete Pier\, 600 2nd Ave NE\, St. Petersburg\, Florida\, 33701\, United States
ATTACH;FMTTYPE=image/jpeg:https://womenscluboflakejovita.com/wp-content/uploads/2025/06/icecreamfest.jpg
END:VEVENT
BEGIN:VEVENT
DTSTART;TZID=America/New_York:20250723T113000
DTEND;TZID=America/New_York:20250723T130000
DTSTAMP:20260425T103209
CREATED:20250701T012304Z
LAST-MODIFIED:20250701T012309Z
UID:6411-1753270200-1753275600@womenscluboflakejovita.com
SUMMARY:Women's Club of Lake Jovita
DESCRIPTION:Join the Stitcher’s Club every Wednesday at the LJ Clubhouse for lunch\, followed by stitching\, knitting\, crochet etc.
URL:https://womenscluboflakejovita.com/event/womens-club-of-lake-jovita/
LOCATION:LJGCC\, 12900 Lake Jovita Blvd\, Dade City\, Florida\, 33525\, United States
ATTACH;FMTTYPE=image/png:https://womenscluboflakejovita.com/wp-content/uploads/2024/02/stitch.png
END:VEVENT
BEGIN:VEVENT
DTSTART;TZID=America/New_York:20251001T113000
DTEND;TZID=America/New_York:20251001T130000
DTSTAMP:20260425T103209
CREATED:20250927T013414Z
LAST-MODIFIED:20250927T013416Z
UID:6450-1759318200-1759323600@womenscluboflakejovita.com
SUMMARY:WCLJ Stitcher's Club
DESCRIPTION:Join the WCLJ Stitcher’s Club every Wednesday for fun and camaraderie!
URL:https://womenscluboflakejovita.com/event/wclj-stitchers-club-31/
LOCATION:LJGCC\, 12900 Lake Jovita Blvd\, Dade City\, Florida\, 33525\, United States
ATTACH;FMTTYPE=image/png:https://womenscluboflakejovita.com/wp-content/uploads/2024/02/stitch.png
END:VEVENT
BEGIN:VEVENT
DTSTART;TZID=America/New_York:20251002T110000
DTEND;TZID=America/New_York:20251002T150000
DTSTAMP:20260425T103209
CREATED:20250927T010037Z
LAST-MODIFIED:20250927T010039Z
UID:6434-1759402800-1759417200@womenscluboflakejovita.com
SUMMARY:WCLJ Fun Bunch
DESCRIPTION:Join the WCLJ October Fun Bunch to experience Vincent Van Gogh in an immersive way on Thursday\, October 2.   The event begins at the Van Gogh Immersive Experience located at 4636 N. Dale Mabry Highway in Tampa before 11 a.m. where the tickets are for sale. Each person will purchase their ticket at the reduce Military/Senior/Student rate of $27.90 plus tax of $2.39 and $4.00 booking fee (total is $34.29). The Virtual Reality experience (a $5.00 add on) will be provided to us free of charge following the immersive experience. The reduced ticket price represents a $9.30 savings over regular pricing. \n\n\n\nFollowing the Van Gogh Immersive Experience\, we will proceed to Wright’s Deli located at 1200 S. Dale Mabry Avenue.  The signup window closes on Monday\, September 29th at 5 p.m. 
URL:https://womenscluboflakejovita.com/event/wclj-fun-bunch/
LOCATION:Florida
ATTACH;FMTTYPE=image/webp:https://womenscluboflakejovita.com/wp-content/uploads/2025/09/vangogh.webp
END:VEVENT
BEGIN:VEVENT
DTSTART;TZID=America/New_York:20251004T100000
DTEND;TZID=America/New_York:20251004T170000
DTSTAMP:20260425T103209
CREATED:20250927T011946Z
LAST-MODIFIED:20250927T011948Z
UID:6440-1759572000-1759597200@womenscluboflakejovita.com
SUMMARY:Dade City Farms Fall Festival
DESCRIPTION:Fall Festival – Dade City Farms \n\n\n\n\n\nCelebrate fall at Dade City Farms’ Fall Festival every weekend in October! Lose yourself in the corn maze\, take a fun tractor hayride\, and watch the kids enjoy our tire playground and pony rides. Snap family photos with your loved ones in their pumpkin patch as you pick out the perfect pumpkin. Meet their friendly animals in the petting zoo and much more!
URL:https://womenscluboflakejovita.com/event/dade-city-farms-fall-festival/
LOCATION:Dade City Farms at Lake Iola\, 17143 Lake Iola Rd.\, Dade City\, Florida\, 33523\, United States
ATTACH;FMTTYPE=image/jpeg:https://womenscluboflakejovita.com/wp-content/uploads/2025/09/dade-city-farms.jpg
END:VEVENT
BEGIN:VEVENT
DTSTART;TZID=America/New_York:20251009T170000
DTEND;TZID=America/New_York:20251009T210000
DTSTAMP:20260425T103209
CREATED:20250927T004100Z
LAST-MODIFIED:20250927T004102Z
UID:6425-1760029200-1760043600@womenscluboflakejovita.com
SUMMARY:Women's Club of LJ October General Meeting
DESCRIPTION:Fall Round-Up: Western Line Dancing with DJ Shawn Carpenter
URL:https://womenscluboflakejovita.com/event/womens-club-of-lj-october-general-meeting/
LOCATION:Lake Jovita GCC\, 12900 Lake Jovita Blvd\, Dade City\, FL\, 33525\, United States
ATTACH;FMTTYPE=image/jpeg:https://womenscluboflakejovita.com/wp-content/uploads/2025/09/roundup.jpg
END:VEVENT
BEGIN:VEVENT
DTSTART;TZID=America/New_York:20251011T110000
DTEND;TZID=America/New_York:20251011T160000
DTSTAMP:20260425T103209
CREATED:20250927T012611Z
LAST-MODIFIED:20250927T012613Z
UID:6443-1760180400-1760198400@womenscluboflakejovita.com
SUMMARY:Scarecrow Festival
DESCRIPTION:
URL:https://womenscluboflakejovita.com/event/scarecrow-festival-2/
LOCATION:Pioneer Village Museum\, 15602 Pioneer Museum Rd.\, Dade City\, Florida\, 33523
ATTACH;FMTTYPE=image/png:https://womenscluboflakejovita.com/wp-content/uploads/2025/09/2025_Scarecrow_Flier_w_sponsors.png
END:VEVENT
BEGIN:VEVENT
DTSTART;TZID=America/New_York:20251011T180000
DTEND;TZID=America/New_York:20251011T200000
DTSTAMP:20260425T103209
CREATED:20250927T010759Z
LAST-MODIFIED:20251012T205635Z
UID:6437-1760205600-1760212800@womenscluboflakejovita.com
SUMMARY:Trunk or Treat At LJ Clubhouse Parking lot
DESCRIPTION:
URL:https://womenscluboflakejovita.com/event/trunk-or-treat-at-lj-clubhouse-parking-lot/
LOCATION:LJGCC\, 12900 Lake Jovita Blvd\, Dade City\, Florida\, 33525\, United States
ATTACH;FMTTYPE=image/jpeg:https://womenscluboflakejovita.com/wp-content/uploads/2025/09/img_1_1759278223654.jpg
END:VEVENT
BEGIN:VEVENT
DTSTART;TZID=America/New_York:20251013T000000
DTEND;TZID=America/New_York:20251013T235959
DTSTAMP:20260425T103209
CREATED:20250927T013728Z
LAST-MODIFIED:20250927T013803Z
UID:6452-1760313600-1760399999@womenscluboflakejovita.com
SUMMARY:Columbus Day
DESCRIPTION:
URL:https://womenscluboflakejovita.com/event/columbus-day-2/
LOCATION:Florida
ATTACH;FMTTYPE=image/avif:https://womenscluboflakejovita.com/wp-content/uploads/2025/09/columbus-day.avif
END:VEVENT
BEGIN:VEVENT
DTSTART;TZID=America/New_York:20251021T160000
DTEND;TZID=America/New_York:20251021T170000
DTSTAMP:20260425T103209
CREATED:20250927T005022Z
LAST-MODIFIED:20250927T005138Z
UID:6430-1761062400-1761066000@womenscluboflakejovita.com
SUMMARY:WCLJ Book Club
DESCRIPTION:Join the Book Club at the LJ Clubhouse Grill room!
URL:https://womenscluboflakejovita.com/event/wclj-book-club-15/
LOCATION:LJGCC\, 12900 Lake Jovita Blvd\, Dade City\, Florida\, 33525\, United States
ATTACH;FMTTYPE=image/jpeg:https://womenscluboflakejovita.com/wp-content/uploads/2025/09/dream-daughter.jpg
END:VEVENT
BEGIN:VEVENT
DTSTART;TZID=America/New_York:20251025T090000
DTEND;TZID=America/New_York:20251025T150000
DTSTAMP:20260425T103209
CREATED:20250927T015636Z
LAST-MODIFIED:20250927T015638Z
UID:6468-1761382800-1761404400@womenscluboflakejovita.com
SUMMARY:Dade City Garden Club Plant Sale
DESCRIPTION:
URL:https://womenscluboflakejovita.com/event/dade-city-garden-club-plant-sale/
LOCATION:Dade City Garden Club\, 13630 5th Street\, Dade City\, Florida\, 33525\, United States
ATTACH;FMTTYPE=image/jpeg:https://womenscluboflakejovita.com/wp-content/uploads/2025/09/Plant-sale.jpg
END:VEVENT
BEGIN:VEVENT
DTSTART;TZID=America/New_York:20251025T100000
DTEND;TZID=America/New_York:20251025T160000
DTSTAMP:20260425T103209
CREATED:20250927T012949Z
LAST-MODIFIED:20250927T012951Z
UID:6447-1761386400-1761408000@womenscluboflakejovita.com
SUMMARY:Pioneers and Beers
DESCRIPTION:
URL:https://womenscluboflakejovita.com/event/pioneers-and-beers/
LOCATION:Pioneer Village Museum\, 15602 Pioneer Museum Rd.\, Dade City\, Florida\, 33523
ATTACH;FMTTYPE=image/png:https://womenscluboflakejovita.com/wp-content/uploads/2025/09/Beer-fest.png
END:VEVENT
BEGIN:VEVENT
DTSTART;TZID=America/New_York:20251031T000000
DTEND;TZID=America/New_York:20251031T235959
DTSTAMP:20260425T103209
CREATED:20250927T014001Z
LAST-MODIFIED:20250927T014004Z
UID:6456-1761868800-1761955199@womenscluboflakejovita.com
SUMMARY:Halloween
DESCRIPTION:
URL:https://womenscluboflakejovita.com/event/halloween/
LOCATION:Florida
ATTACH;FMTTYPE=image/avif:https://womenscluboflakejovita.com/wp-content/uploads/2025/09/happy-halloween-2025-card.avif
END:VEVENT
BEGIN:VEVENT
DTSTART;TZID=America/New_York:20251101T000000
DTEND;TZID=America/New_York:20251101T235959
DTSTAMP:20260425T103209
CREATED:20250927T014234Z
LAST-MODIFIED:20250927T014236Z
UID:6459-1761955200-1762041599@womenscluboflakejovita.com
SUMMARY:All Saints Day
DESCRIPTION:
URL:https://womenscluboflakejovita.com/event/all-saints-day/
LOCATION:Florida
ATTACH;FMTTYPE=image/jpeg:https://womenscluboflakejovita.com/wp-content/uploads/2025/09/All-Saints-Day.jpg
END:VEVENT
BEGIN:VEVENT
DTSTART;TZID=America/New_York:20251101T160000
DTEND;TZID=America/New_York:20251101T190000
DTSTAMP:20260425T103209
CREATED:20251011T224321Z
LAST-MODIFIED:20251011T224345Z
UID:6493-1762012800-1762023600@womenscluboflakejovita.com
SUMMARY:Party in the Park
DESCRIPTION:
URL:https://womenscluboflakejovita.com/event/party-in-the-park-3/
LOCATION:Lake Jovita Community Park\, 13997 Thoroughbred Drive\, Dade City\, 33525
ATTACH;FMTTYPE=image/jpeg:https://womenscluboflakejovita.com/wp-content/uploads/2025/10/20251011_122905-2-scaled.jpg
END:VEVENT
BEGIN:VEVENT
DTSTART;TZID=America/New_York:20251105T110000
DTEND;TZID=America/New_York:20251105T130000
DTSTAMP:20260425T103209
CREATED:20251104T034756Z
LAST-MODIFIED:20251104T034758Z
UID:6547-1762340400-1762347600@womenscluboflakejovita.com
SUMMARY:Women's Club of Lake Jovita Stitcher's Club
DESCRIPTION:Join the Stitcher’s Club every Wednesday in the Grill Room.
URL:https://womenscluboflakejovita.com/event/womens-club-of-lake-jovita-stitchers-club-4/
LOCATION:LJGCC\, 12900 Lake Jovita Blvd\, Dade City\, Florida\, 33525\, United States
ATTACH;FMTTYPE=image/png:https://womenscluboflakejovita.com/wp-content/uploads/2024/02/stitch.png
END:VEVENT
BEGIN:VEVENT
DTSTART;TZID=America/New_York:20251106T110000
DTEND;TZID=America/New_York:20251106T130000
DTSTAMP:20260425T103209
CREATED:20251104T033708Z
LAST-MODIFIED:20251104T033710Z
UID:6538-1762426800-1762434000@womenscluboflakejovita.com
SUMMARY:WCLJ Fun Bunch: Lunch at the Farmhouse
DESCRIPTION:Come on out to support our local Farmhouse Market and Cafe for the November Fun Bunch lunch on Thursday\,  November 6th at 11 a.m.    \n\n\n\nThe Farmhouse\, located at 14124 5th Street in Dade City\, has just reopened after being closed by the hurricanes of last year.   The business and dining area has been expanded and the menu and food are better than ever.
URL:https://womenscluboflakejovita.com/event/wclj-fun-bunch-lunch-at-the-farmhouse/
LOCATION:The Farmhouse\, 14124 5th Street\, Dade City\, Florida\, 33525\, United States
ATTACH;FMTTYPE=image/webp:https://womenscluboflakejovita.com/wp-content/uploads/2025/11/farmhouse.webp
END:VEVENT
BEGIN:VEVENT
DTSTART;TZID=America/New_York:20251108T150000
DTEND;TZID=America/New_York:20251109T210000
DTSTAMP:20260425T103209
CREATED:20251104T011850Z
LAST-MODIFIED:20251104T011852Z
UID:6511-1762614000-1762722000@womenscluboflakejovita.com
SUMMARY:Florida Bug Jam
DESCRIPTION:The 37th Annual Florida Bug Jam will be held Saturday and Sunday\, Nov. 8th & 9th\, at the Pasco County Fairgrounds\, 36722 State Road 52\, Dade City\, FL 33525\, 7 ½ miles east of Interstate 75\, off Exit 285 for families and Volkswagen fans to come out and enjoy. \n\n\n\nGeneral admission is $10 per day.Children 10 and under $5Parking fees – $5 \n\n\n\nGates open for Spectators at 11am Saturday and 9am Sunday.
URL:https://womenscluboflakejovita.com/event/florida-bug-jam-2/
LOCATION:Bug Jam\, 36722 State Road 52\, Dade City\, Florida\, 33525\, United States
ATTACH;FMTTYPE=image/jpeg:https://womenscluboflakejovita.com/wp-content/uploads/2025/11/2025-bug-jam.jpg
ORGANIZER;CN="FL Bug Jam":MAILTO:tyoho3@icloud.com
END:VEVENT
BEGIN:VEVENT
DTSTART;TZID=America/New_York:20251111T000000
DTEND;TZID=America/New_York:20251111T235959
DTSTAMP:20260425T103209
CREATED:20250927T014505Z
LAST-MODIFIED:20250927T014507Z
UID:6462-1762819200-1762905599@womenscluboflakejovita.com
SUMMARY:Veteran's Day
DESCRIPTION:
URL:https://womenscluboflakejovita.com/event/veterans-day-2/
LOCATION:Florida
ATTACH;FMTTYPE=image/jpeg:https://womenscluboflakejovita.com/wp-content/uploads/2025/09/veterans-day.jpg
END:VEVENT
BEGIN:VEVENT
DTSTART;TZID=America/New_York:20251112T110000
DTEND;TZID=America/New_York:20251112T130000
DTSTAMP:20260425T103209
CREATED:20251104T035112Z
LAST-MODIFIED:20251104T035114Z
UID:6549-1762945200-1762952400@womenscluboflakejovita.com
SUMMARY:Women's Club of Lake Jovita Stitcher's Club
DESCRIPTION:Come and join the Club every Wednesday at the Grill Room.
URL:https://womenscluboflakejovita.com/event/womens-club-of-lake-jovita-stitchers-club-5/
LOCATION:LJGCC\, 12900 Lake Jovita Blvd\, Dade City\, Florida\, 33525\, United States
ATTACH;FMTTYPE=image/jpeg:https://womenscluboflakejovita.com/wp-content/uploads/2023/11/stichers.jpg
END:VEVENT
BEGIN:VEVENT
DTSTART;TZID=America/New_York:20251113T170000
DTEND;TZID=America/New_York:20251113T210000
DTSTAMP:20260425T103209
CREATED:20251104T032336Z
LAST-MODIFIED:20251104T032338Z
UID:6528-1763053200-1763067600@womenscluboflakejovita.com
SUMMARY:Women's Club of Lake Jovita November General Meeting
DESCRIPTION:It's autumn and the perfect time to have a mixer to meet with WCLJ friends old and new.
URL:https://womenscluboflakejovita.com/event/womens-club-of-lake-jovita-november-general-meeting/
LOCATION:LJGCC\, 12900 Lake Jovita Blvd\, Dade City\, Florida\, 33525\, United States
ATTACH;FMTTYPE=image/jpeg:https://womenscluboflakejovita.com/wp-content/uploads/2025/11/social.jpg
END:VEVENT
BEGIN:VEVENT
DTSTART;TZID=America/New_York:20251115T100000
DTEND;TZID=America/New_York:20251115T160000
DTSTAMP:20260425T103209
CREATED:20250927T020033Z
LAST-MODIFIED:20250927T020034Z
UID:6471-1763200800-1763222400@womenscluboflakejovita.com
SUMMARY:Living History and Civil War Reenactment
DESCRIPTION:
URL:https://womenscluboflakejovita.com/event/living-history-and-civil-war-reenactment/
LOCATION:Pioneer Village Museum\, 15602 Pioneer Museum Rd.\, Dade City\, Florida\, 33523
ATTACH;FMTTYPE=image/png:https://womenscluboflakejovita.com/wp-content/uploads/2025/09/2025_Civil_War-react.png
END:VEVENT
BEGIN:VEVENT
DTSTART;TZID=America/New_York:20251115T100000
DTEND;TZID=America/New_York:20251115T160000
DTSTAMP:20260425T103209
CREATED:20251104T005938Z
LAST-MODIFIED:20251104T005940Z
UID:6501-1763200800-1763222400@womenscluboflakejovita.com
SUMMARY:Lake Jovita Arts & Crafts Open House
DESCRIPTION:
URL:https://womenscluboflakejovita.com/event/lake-jovita-arts-crafts-open-house/
LOCATION:13337 Trailing Moss Drive\, 13337 Trailing Moss Drive\, Dade City\, Florida\, 33525
ATTACH;FMTTYPE=image/jpeg:https://womenscluboflakejovita.com/wp-content/uploads/2025/11/img_1_1762115813474.jpg
END:VEVENT
BEGIN:VEVENT
DTSTART;TZID=America/New_York:20251118T160000
DTEND;TZID=America/New_York:20251118T170000
DTSTAMP:20260425T103209
CREATED:20251104T032900Z
LAST-MODIFIED:20251104T032923Z
UID:6534-1763481600-1763485200@womenscluboflakejovita.com
SUMMARY:Women's Club of Lake Jovita Book Club
DESCRIPTION:The next WCLJ Book Club Meeting is Tuesday November 18th at 4:00 pm in the Grill room. The book title is Nora Goes Off Script by Annabel Monaghan
URL:https://womenscluboflakejovita.com/event/womens-club-of-lake-jovita-book-club-2/
LOCATION:LJGCC\, 12900 Lake Jovita Blvd\, Dade City\, Florida\, 33525\, United States
ATTACH;FMTTYPE=image/jpeg:https://womenscluboflakejovita.com/wp-content/uploads/2025/11/Nora-off-script.jpg
END:VEVENT
BEGIN:VEVENT
DTSTART;TZID=America/New_York:20251119T110000
DTEND;TZID=America/New_York:20251119T130000
DTSTAMP:20260425T103209
CREATED:20251104T035504Z
LAST-MODIFIED:20251104T035506Z
UID:6551-1763550000-1763557200@womenscluboflakejovita.com
SUMMARY:Women's Club of Lake Jovita Stitcher's Club
DESCRIPTION:Join the Stitcher’s Club every Wednesday at the Clubhouse Grill Room.
URL:https://womenscluboflakejovita.com/event/womens-club-of-lake-jovita-stitchers-club-6/
LOCATION:LJGCC\, 12900 Lake Jovita Blvd\, Dade City\, Florida\, 33525\, United States
ATTACH;FMTTYPE=image/jpeg:https://womenscluboflakejovita.com/wp-content/uploads/2023/11/stichers.jpg
END:VEVENT
BEGIN:VEVENT
DTSTART;TZID=America/New_York:20251127T000000
DTEND;TZID=America/New_York:20251127T235959
DTSTAMP:20260425T103209
CREATED:20250927T014936Z
LAST-MODIFIED:20250927T014938Z
UID:6465-1764201600-1764287999@womenscluboflakejovita.com
SUMMARY:Thanksgiving
DESCRIPTION:
URL:https://womenscluboflakejovita.com/event/thanksgiving/
LOCATION:Florida
ATTACH;FMTTYPE=image/jpeg:https://womenscluboflakejovita.com/wp-content/uploads/2025/09/thanksgiving.jpg
END:VEVENT
BEGIN:VEVENT
DTSTART;TZID=America/New_York:20251205T190000
DTEND;TZID=America/New_York:20251205T200000
DTSTAMP:20260425T103209
CREATED:20250927T020512Z
LAST-MODIFIED:20251104T010100Z
UID:6474-1764961200-1764964800@womenscluboflakejovita.com
SUMMARY:Dade City Christmas Parade
DESCRIPTION:
URL:https://womenscluboflakejovita.com/event/dade-city-christmas-parade-2/
LOCATION:Downtown Dade City\, 37918 Meridian Ave\, Dade City\, Florida\, 33525
ATTACH;FMTTYPE=image/png:https://womenscluboflakejovita.com/wp-content/uploads/2025/09/2025_Dade_City_Christmas_Parade_Flier.png
END:VEVENT
BEGIN:VEVENT
DTSTART;TZID=America/New_York:20251206T080000
DTEND;TZID=America/New_York:20251206T120000
DTSTAMP:20260425T103209
CREATED:20251104T025712Z
LAST-MODIFIED:20251128T194717Z
UID:6519-1765008000-1765022400@womenscluboflakejovita.com
SUMMARY:19th Annual 5K Reindeer Run
DESCRIPTION:Join the many here at Lake Jovita on Saturday\, December 6th\, 2025 for a morning full of fun\, fitness\, and holiday spirit\, all benefiting Sunrise of Pasco County Domestic & Sexual Violence Center.💜 Registration opens at 7:00 AM and the race begins at 8:00 AM!🎁 Register by November 21st to get your event shirt!✨ Enjoy the costume contest\, raffle\, and prizes for all ages.📍 12900 Lake Jovita Blvd\, Dade City\, FL 33525Register online or at the Lake Jovita Fitness Center—scan the QR code to sign up! Click on the following to view additional information- Lake Jovita 5K Reindeer Run
URL:https://womenscluboflakejovita.com/event/19th-annual-5k-reindeer-run/
LOCATION:LJGCC\, 12900 Lake Jovita Blvd\, Dade City\, Florida\, 33525\, United States
ATTACH;FMTTYPE=image/jpeg:https://womenscluboflakejovita.com/wp-content/uploads/2025/11/20251127_110903-scaled.jpg
END:VEVENT
BEGIN:VEVENT
DTSTART;TZID=America/New_York:20251206T100000
DTEND;TZID=America/New_York:20251206T160000
DTSTAMP:20260425T103209
CREATED:20250927T020835Z
LAST-MODIFIED:20250927T020838Z
UID:6477-1765015200-1765036800@womenscluboflakejovita.com
SUMMARY:Pioneer Christmas and Vintage Market
DESCRIPTION:
URL:https://womenscluboflakejovita.com/event/pioneer-christmas-and-vintage-market-2/
LOCATION:Pioneer Village Museum\, 15602 Pioneer Museum Rd.\, Dade City\, Florida\, 33523
ATTACH;FMTTYPE=image/png:https://womenscluboflakejovita.com/wp-content/uploads/2025/09/2025_Pioneer_Christmas_flier.png
END:VEVENT
END:VCALENDAR