BEGIN:VCALENDAR
VERSION:2.0
PRODID:-//Women&#039;s Club of Lake Jovita - ECPv6.15.3//NONSGML v1.0//EN
CALSCALE:GREGORIAN
METHOD:PUBLISH
X-WR-CALNAME:Women&#039;s Club of Lake Jovita
X-ORIGINAL-URL:https://womenscluboflakejovita.com
X-WR-CALDESC:Events for Women&#039;s Club of Lake Jovita
REFRESH-INTERVAL;VALUE=DURATION:PT1H
X-Robots-Tag:noindex
X-PUBLISHED-TTL:PT1H
BEGIN:VTIMEZONE
TZID:America/New_York
BEGIN:DAYLIGHT
TZOFFSETFROM:-0500
TZOFFSETTO:-0400
TZNAME:EDT
DTSTART:20240310T070000
END:DAYLIGHT
BEGIN:STANDARD
TZOFFSETFROM:-0400
TZOFFSETTO:-0500
TZNAME:EST
DTSTART:20241103T060000
END:STANDARD
END:VTIMEZONE
BEGIN:VEVENT
DTSTART;TZID=America/New_York:20240619T120000
DTEND;TZID=America/New_York:20240619T130000
DTSTAMP:20260425T224932
CREATED:20240601T081835Z
LAST-MODIFIED:20240601T081836Z
UID:5894-1718798400-1718802000@womenscluboflakejovita.com
SUMMARY:WCLJ Stitcher's Club
DESCRIPTION:
URL:https://womenscluboflakejovita.com/event/wclj-stitchers-club-19/
LOCATION:Lake Jovita Golf and Country Club Grill Room\, 12900 Lake Jovita Blvd.\, Dade City\, Florida\, 33525\, United States
ATTACH;FMTTYPE=image/png:https://womenscluboflakejovita.com/wp-content/uploads/2024/02/stitch.png
END:VEVENT
BEGIN:VEVENT
DTSTART;TZID=America/New_York:20240619T000000
DTEND;TZID=America/New_York:20240619T000000
DTSTAMP:20260425T224932
CREATED:20240220T023527Z
LAST-MODIFIED:20240220T023527Z
UID:5604-1718755200-1718755200@womenscluboflakejovita.com
SUMMARY:Juneteenth
DESCRIPTION:
URL:https://womenscluboflakejovita.com/event/juneteenth/
LOCATION:Florida
END:VEVENT
BEGIN:VEVENT
DTSTART;TZID=America/New_York:20240618T160000
DTEND;TZID=America/New_York:20240618T170000
DTSTAMP:20260425T224932
CREATED:20240601T071536Z
LAST-MODIFIED:20240601T080903Z
UID:5859-1718726400-1718730000@womenscluboflakejovita.com
SUMMARY:WCLJ BOOK CLUB
DESCRIPTION:The next WCLJ Book Club meeting is Tues June 18th at 4:00 pm in the Grill Room. The book title is Things I Wish I Told My Mother by Susan Patterson\, Susan DiLallo and James Patterson.
URL:https://womenscluboflakejovita.com/event/wclj-book-club-5/
LOCATION:Lake Jovita Golf and Country Club Grill Room\, 12900 Lake Jovita Blvd.\, Dade City\, Florida\, 33525\, United States
ATTACH;FMTTYPE=image/jpeg:https://womenscluboflakejovita.com/wp-content/uploads/2024/06/Things-I-wish-I-told-my-mother.jpg
END:VEVENT
BEGIN:VEVENT
DTSTART;TZID=America/New_York:20240616T000000
DTEND;TZID=America/New_York:20240616T000000
DTSTAMP:20260425T224932
CREATED:20240220T023527Z
LAST-MODIFIED:20240220T030615Z
UID:5603-1718496000-1718496000@womenscluboflakejovita.com
SUMMARY:Father's Day
DESCRIPTION:
URL:https://womenscluboflakejovita.com/event/fathers-day/
LOCATION:Florida
ATTACH;FMTTYPE=image/jpeg:https://womenscluboflakejovita.com/wp-content/uploads/2024/02/fathers-day.jpg
END:VEVENT
BEGIN:VEVENT
DTSTART;TZID=America/New_York:20240615T100000
DTEND;TZID=America/New_York:20240615T140000
DTSTAMP:20260425T224932
CREATED:20240601T075816Z
LAST-MODIFIED:20240601T080848Z
UID:5877-1718445600-1718460000@womenscluboflakejovita.com
SUMMARY:Dade City Merchant Sidewalk Sale
DESCRIPTION:Browse 6 Blocks of Quaint Shops Unique to Dade City \n\n\n\nEnjoy savings at merchant sale tables both inside and out. Dine and drink at locally owned cafes and fine restaurants.
URL:https://womenscluboflakejovita.com/event/dade-city-merchants-sidewalk-sale/
LOCATION:Downtown Dade City\, 37918 Meridian Ave\, Dade City\, Florida\, 33525
ATTACH;FMTTYPE=image/jpeg:https://womenscluboflakejovita.com/wp-content/uploads/2024/06/DADE.jpg
END:VEVENT
BEGIN:VEVENT
DTSTART;TZID=America/New_York:20240613T170000
DTEND;TZID=America/New_York:20240613T210000
DTSTAMP:20260425T224932
CREATED:20240601T065830Z
LAST-MODIFIED:20240601T065832Z
UID:5853-1718298000-1718312400@womenscluboflakejovita.com
SUMMARY:WCLJ JUNE GENERAL MEETING: GAME NIGHT
DESCRIPTION:Members and sponsored guests are invited to an exciting mystery evening – no need to dress fancy but be prepared for LOTS of laughs.  Actually\, if this isn’t one of the most entertaining evenings you have experienced at the Women’s Club\, we will be very disappointed.  Hope we have peaked your interest\, and you are willing to take a chance on what’s in store for you! \n\n\n\nThis event is a mixer. Numbers will be drawn to determine where you sit. If you like\, wear your WCLJ nametag you took home. Stick on nametags will be available at the event.   
URL:https://womenscluboflakejovita.com/event/wclj-june-general-meeting-game-night/
LOCATION:Lake Jovita GCC\, 12900 Lake Jovita Blvd\, Dade City\, FL\, 33525\, United States
ATTACH;FMTTYPE=image/png:https://womenscluboflakejovita.com/wp-content/uploads/2024/06/GAME-NIGHT.png
END:VEVENT
BEGIN:VEVENT
DTSTART;TZID=America/New_York:20240612T120000
DTEND;TZID=America/New_York:20240612T130000
DTSTAMP:20260425T224932
CREATED:20240601T081621Z
LAST-MODIFIED:20240601T081622Z
UID:5892-1718193600-1718197200@womenscluboflakejovita.com
SUMMARY:WCLJ Stitcher's Club
DESCRIPTION:
URL:https://womenscluboflakejovita.com/event/wclj-stitchers-club-18/
LOCATION:Lake Jovita Golf and Country Club Grill Room\, 12900 Lake Jovita Blvd.\, Dade City\, Florida\, 33525\, United States
ATTACH;FMTTYPE=image/png:https://womenscluboflakejovita.com/wp-content/uploads/2024/02/stitch.png
END:VEVENT
BEGIN:VEVENT
DTSTART;TZID=America/New_York:20240611T110000
DTEND;TZID=America/New_York:20240611T130000
DTSTAMP:20260425T224932
CREATED:20240601T070902Z
LAST-MODIFIED:20240601T070903Z
UID:5856-1718103600-1718110800@womenscluboflakejovita.com
SUMMARY:WCLJ Girls Just Wanna Have Fun Fitness: Keys to Longevity
DESCRIPTION:Girls Just Wanna Have Fun – Join us on June 11 at 11 a.m. to hear June Kittay\, Fitness Professional\, Author\, Writer\, Edutainer\, and Keynote Speaker on Keys to Longevity and Active Aging Fitness Instruction.   June is recognized by the National Fitness Hall of Fame as a Top Group Exercise Instructor.   She has designed custom courses for companies\, organization\, and events to motivate\, educate\, inspire\, and entertain.    \n\n\n\nJune will speak to us on the topic of fitness and lead us in some light standing exercise movements at the end of her speech\, so wear something that you can move in but you need not wear workout clothes.   Cost for the event is $10 cash to help defray the cost of the guest speaker.        \n\n\n\nSelect your lunch preferences by choosing the signup slot for either a cobb salad\, a triple club sandwich\, a french dip sandwich or a soup/sandwich combo.   Indicate any special instructions in the comments (like no cheese or dairy) and select your side dish if applicable on your signup comment field.   Lunch will be individually billed at the event by LJCC.   The pricing on the signup does not reflect the club service charge or tax\, both of which will be added to your bill.   Beverages other than water are not included in the pricing listed but may be ordered at the event.   Seating is limited.  Signups close at 5 p.m. on Sunday\, June 9.    
URL:https://womenscluboflakejovita.com/event/wclj-girls-just-wanna-have-fun-fitness-keys-to-longevity/
LOCATION:Lake Jovita GCC\, 12900 Lake Jovita Blvd\, Dade City\, FL\, 33525\, United States
ATTACH;FMTTYPE=image/jpeg:https://womenscluboflakejovita.com/wp-content/uploads/2024/06/Longevity-plan-Cover-1.jpg
END:VEVENT
BEGIN:VEVENT
DTSTART;TZID=America/New_York:20240605T120000
DTEND;TZID=America/New_York:20240605T130000
DTSTAMP:20260425T224932
CREATED:20240601T081333Z
LAST-MODIFIED:20240601T081335Z
UID:5890-1717588800-1717592400@womenscluboflakejovita.com
SUMMARY:WCLJ Stitcher's Club
DESCRIPTION:
URL:https://womenscluboflakejovita.com/event/wclj-stitchers-club-17/
LOCATION:Lake Jovita Golf and Country Club Grill Room\, 12900 Lake Jovita Blvd.\, Dade City\, Florida\, 33525\, United States
ATTACH;FMTTYPE=image/png:https://womenscluboflakejovita.com/wp-content/uploads/2024/02/stitch.png
END:VEVENT
BEGIN:VEVENT
DTSTART;TZID=America/New_York:20240602T100000
DTEND;TZID=America/New_York:20240602T140000
DTSTAMP:20260425T224932
CREATED:20240601T073234Z
LAST-MODIFIED:20240601T073235Z
UID:5867-1717322400-1717336800@womenscluboflakejovita.com
SUMMARY:TENNIS SINGLES TOURNAMENT
DESCRIPTION:
URL:https://womenscluboflakejovita.com/event/tennis-singles-tournament/
LOCATION:Lake Jovita GCC\, 12900 Lake Jovita Blvd\, Dade City\, FL\, 33525\, United States
ATTACH;FMTTYPE=image/png:https://womenscluboflakejovita.com/wp-content/uploads/2024/06/Singles.png
ORGANIZER;CN="Bryan Richter":MAILTO:bryan@purepacetennis.com
END:VEVENT
BEGIN:VEVENT
DTSTART;TZID=America/New_York:20240601T090000
DTEND;TZID=America/New_York:20240601T140000
DTSTAMP:20260425T224932
CREATED:20240601T072555Z
LAST-MODIFIED:20240601T072557Z
UID:5862-1717232400-1717250400@womenscluboflakejovita.com
SUMMARY:DOUBLES TENNIS TOURNAMENT
DESCRIPTION:Doubles tennis tournament at the Pure Pace Tennis Academy\, Lake Jovita Golf &Country Club
URL:https://womenscluboflakejovita.com/event/doubles-tennis-tournament/
LOCATION:Lake Jovita GCC\, 12900 Lake Jovita Blvd\, Dade City\, FL\, 33525\, United States
ATTACH;FMTTYPE=image/png:https://womenscluboflakejovita.com/wp-content/uploads/2024/06/Doubles.png
ORGANIZER;CN="Bryan Richter":MAILTO:bryan@purepacetennis.com
END:VEVENT
BEGIN:VEVENT
DTSTART;TZID=America/New_York:20240527T000000
DTEND;TZID=America/New_York:20240527T000000
DTSTAMP:20260425T224932
CREATED:20240220T022410Z
LAST-MODIFIED:20240220T030442Z
UID:5597-1716768000-1716768000@womenscluboflakejovita.com
SUMMARY:Memorial Day
DESCRIPTION:
URL:https://womenscluboflakejovita.com/event/memorial-day/
LOCATION:Florida
ATTACH;FMTTYPE=image/jpeg:https://womenscluboflakejovita.com/wp-content/uploads/2024/02/MEMORIAL-DAY1.jpg
END:VEVENT
BEGIN:VEVENT
DTSTART;TZID=America/New_York:20240525T150000
DTEND;TZID=America/New_York:20240525T170000
DTSTAMP:20260425T224932
CREATED:20240426T034930Z
LAST-MODIFIED:20240426T035942Z
UID:5828-1716649200-1716656400@womenscluboflakejovita.com
SUMMARY:Belle's Tea Party at Angel Tea Room
DESCRIPTION:Come join Belle for treats and tea! Meet and Greet for every royal guest\, Interactive Storytime and a Magical Sing Along! Seating is limited!
URL:https://womenscluboflakejovita.com/event/belles-tea-party-at-angel-tea-room/
LOCATION:Angel Tea Room\, 37847 Meridian Avenue\, Dade City\, Florida\, 33525\, United States
ATTACH;FMTTYPE=image/jpeg:https://womenscluboflakejovita.com/wp-content/uploads/2024/04/belle.jpg
END:VEVENT
BEGIN:VEVENT
DTSTART;TZID=America/New_York:20240522T120000
DTEND;TZID=America/New_York:20240522T130000
DTSTAMP:20260425T224932
CREATED:20240426T041248Z
LAST-MODIFIED:20240426T041249Z
UID:5844-1716379200-1716382800@womenscluboflakejovita.com
SUMMARY:WCLJ STITCHER'S CLUB
DESCRIPTION:
URL:https://womenscluboflakejovita.com/event/wclj-stitchers-club-16/
LOCATION:Lake Jovita GCC\, 12900 Lake Jovita Blvd\, Dade City\, FL\, 33525\, United States
ATTACH;FMTTYPE=image/png:https://womenscluboflakejovita.com/wp-content/uploads/2024/02/stitch.png
END:VEVENT
BEGIN:VEVENT
DTSTART;TZID=America/New_York:20240521T113000
DTEND;TZID=America/New_York:20240521T140000
DTSTAMP:20260425T224932
CREATED:20240420T012041Z
LAST-MODIFIED:20240420T012153Z
UID:5801-1716291000-1716300000@womenscluboflakejovita.com
SUMMARY:WCLJ BOOK CLUB
DESCRIPTION:The WCLJ Book Club’s May selection is Midnight Library by Matt Haig. The next Book Club meeting will be Tuesday May 21st at 11:30 am in the Grill Room. For more information contact Mary Horvat.
URL:https://womenscluboflakejovita.com/event/wclj-book-club-4/
LOCATION:Florida
ATTACH;FMTTYPE=image/jpeg:https://womenscluboflakejovita.com/wp-content/uploads/2024/04/MIDNIGHT-LIBRARY.jpg
END:VEVENT
BEGIN:VEVENT
DTSTART;TZID=America/New_York:20240516T110000
DTEND;TZID=America/New_York:20240516T130000
DTSTAMP:20260425T224932
CREATED:20240319T214232Z
LAST-MODIFIED:20240319T215017Z
UID:5732-1715857200-1715864400@womenscluboflakejovita.com
SUMMARY:WCLJ Lunch & Learn: Make & Take
DESCRIPTION:Join Patti Wieclaw to make your own jewelry that you can take home!
URL:https://womenscluboflakejovita.com/event/wclj-lunch-learn-make-take/
LOCATION:Lake Jovita GCC\, 12900 Lake Jovita Blvd\, Dade City\, FL\, 33525\, United States
ATTACH;FMTTYPE=image/jpeg:https://womenscluboflakejovita.com/wp-content/uploads/2024/03/jewelry-making.jpg
END:VEVENT
BEGIN:VEVENT
DTSTART;TZID=America/New_York:20240515T120000
DTEND;TZID=America/New_York:20240515T130000
DTSTAMP:20260425T224932
CREATED:20240426T041043Z
LAST-MODIFIED:20240426T041045Z
UID:5842-1715774400-1715778000@womenscluboflakejovita.com
SUMMARY:WCLJ STITCHER'S CLUB
DESCRIPTION:
URL:https://womenscluboflakejovita.com/event/wclj-stitchers-club-15/
LOCATION:Lake Jovita GCC\, 12900 Lake Jovita Blvd\, Dade City\, FL\, 33525\, United States
ATTACH;FMTTYPE=image/png:https://womenscluboflakejovita.com/wp-content/uploads/2024/02/stitch.png
END:VEVENT
BEGIN:VEVENT
DTSTART;TZID=America/New_York:20240512T000000
DTEND;TZID=America/New_York:20240512T000000
DTSTAMP:20260425T224932
CREATED:20240220T022410Z
LAST-MODIFIED:20240220T025733Z
UID:5596-1715472000-1715472000@womenscluboflakejovita.com
SUMMARY:Mother's Day
DESCRIPTION:
URL:https://womenscluboflakejovita.com/event/mothers-day/
LOCATION:Florida
ATTACH;FMTTYPE=image/webp:https://womenscluboflakejovita.com/wp-content/uploads/2024/02/Mothers-Day-2024-1.webp
END:VEVENT
BEGIN:VEVENT
DTSTART;TZID=America/New_York:20240509T170000
DTEND;TZID=America/New_York:20240509T210000
DTSTAMP:20260425T224932
CREATED:20240319T214232Z
LAST-MODIFIED:20240426T040018Z
UID:5733-1715274000-1715288400@womenscluboflakejovita.com
SUMMARY:WCLJ General Meeting: KENTUCKY DERBY RERUN
DESCRIPTION:And…….they’re off! Join us for the first Women’s Club of Lake Jovita’s “RUN FOR THE ROSES”\, featuring former winners of the world’s most famous and prestigious horse race. Bookies will be on hand to take your bets. No need to bring money\, cash will be provided for betting.  It wouldn’t be a derby without spectacular hats and spring dresses so wear your derby best.  Prizes will be awarded in various categories. 
URL:https://womenscluboflakejovita.com/event/wclj-general-meeting-2/
LOCATION:Florida
ATTACH;FMTTYPE=image/jpeg:https://womenscluboflakejovita.com/wp-content/uploads/2024/03/KENTUCKY-DERBY.jpg
END:VEVENT
BEGIN:VEVENT
DTSTART;TZID=America/New_York:20240508T120000
DTEND;TZID=America/New_York:20240508T130000
DTSTAMP:20260425T224932
CREATED:20240426T040828Z
LAST-MODIFIED:20240426T040829Z
UID:5840-1715169600-1715173200@womenscluboflakejovita.com
SUMMARY:WCLJ STITCHER'S CLUB
DESCRIPTION:
URL:https://womenscluboflakejovita.com/event/wclj-stitchers-club-14/
LOCATION:Lake Jovita GCC\, 12900 Lake Jovita Blvd\, Dade City\, FL\, 33525\, United States
ATTACH;FMTTYPE=image/png:https://womenscluboflakejovita.com/wp-content/uploads/2024/02/stitch.png
END:VEVENT
BEGIN:VEVENT
DTSTART;TZID=America/New_York:20240506T090000
DTEND;TZID=America/New_York:20240506T140000
DTSTAMP:20260425T224932
CREATED:20240420T011306Z
LAST-MODIFIED:20240426T030454Z
UID:5796-1714986000-1715004000@womenscluboflakejovita.com
SUMMARY:WCLJ LUNCH BUNCH: CADDY'S AT JOHN'S PASS
DESCRIPTION:Lunch Bunch will be going to Caddy’s in John’s Pass Village & Boardwalk\, 190 Boardwalk Pl\, E. Madeira Beach. There is plenty of shopping to be done so wear comfortable shoes. We will be leaving from the clubhouse at 9:00am.  Lunch will be 11:30. Contact Tinna Knight if you’re going.
URL:https://womenscluboflakejovita.com/event/wclj-lunch-bunch-caddys-madeira-beach/
LOCATION:Caddy’s John’s Pass\, 190 Boardwalk\, E. Madeira Beach\, Florida\, 33708\, United States
ATTACH;FMTTYPE=image/png:https://womenscluboflakejovita.com/wp-content/uploads/2024/04/caddys.png
END:VEVENT
BEGIN:VEVENT
DTSTART;TZID=America/New_York:20240505T130000
DTEND;TZID=America/New_York:20240505T190000
DTSTAMP:20260425T224932
CREATED:20240426T033905Z
LAST-MODIFIED:20240426T033906Z
UID:5823-1714914000-1714935600@womenscluboflakejovita.com
SUMMARY:Cinco de Mayo Latin Food & Music Festival
DESCRIPTION:A fun day of live music\, food and drinks at the beautiful Barrington Hills Farms! Salsa\, Bachata\, Merengue and more to enjoy!
URL:https://womenscluboflakejovita.com/event/cinco-de-mayo-latin-food-music-festival/
LOCATION:Barrington Hills Farms\, 16117 Lake Iola Road\, Dade City\, Florida\, 33523\, United States
ATTACH;FMTTYPE=image/jpeg:https://womenscluboflakejovita.com/wp-content/uploads/2024/04/cinco-de-mayo.jpg
END:VEVENT
BEGIN:VEVENT
DTSTART;TZID=America/New_York:20240504T163000
DTEND;TZID=America/New_York:20240504T190000
DTSTAMP:20260425T224932
CREATED:20240319T214232Z
LAST-MODIFIED:20240319T215530Z
UID:5730-1714840200-1714849200@womenscluboflakejovita.com
SUMMARY:5th Annual Hats & Horses Derby
DESCRIPTION:This Kentucky Derby Party benefits Caterpillars to Butterflies Charitable Foundation\, Inc.\, a local non-profit helping foster children achieve transformation\, creativity and their endless potential. For additional information on the foundation\, visit their website at https://caterflies.org/ \nYour ticket includes southern cuisine and an open bar complete with mint juleps. Enjoy the live Kentucky Derby Race\, a live band\, casino games\, contests for best hat and best dressed\, a silent auction\, a live auction and much more! \nTickets are $100 in advance/ $125 at the door. Sponsorship packages are available\, which include tickets to the event. Should you have any questions or wish to become a sponsor\, please call (352) 427-0332 or email jeanie6950rotary@gmail.com \nhttps://www.eventbrite.com/e/hats-horses-2024-tickets-861697198517?aff=oddtdtcreator
URL:https://womenscluboflakejovita.com/event/5th-annual-hats-horses-derby/
LOCATION:Waller Ranch\, 17307 Powerline Rd\, Dade City\, FL 33523\, Dade City\, Florida\, 33525\, United States
ATTACH;FMTTYPE=image/jpeg:https://womenscluboflakejovita.com/wp-content/uploads/2024/03/Rotary-Club-Derby.jpg
END:VEVENT
BEGIN:VEVENT
DTSTART;TZID=America/New_York:20240501T000000
DTEND;TZID=America/New_York:20240501T010000
DTSTAMP:20260425T224932
CREATED:20240426T040457Z
LAST-MODIFIED:20240426T040458Z
UID:5838-1714521600-1714525200@womenscluboflakejovita.com
SUMMARY:WCLJ STITCHER'S CLUB
DESCRIPTION:
URL:https://womenscluboflakejovita.com/event/wclj-stitchers-club-13/
LOCATION:Lake Jovita GCC\, 12900 Lake Jovita Blvd\, Dade City\, FL\, 33525\, United States
ATTACH;FMTTYPE=image/png:https://womenscluboflakejovita.com/wp-content/uploads/2024/02/stitch.png
END:VEVENT
BEGIN:VEVENT
DTSTART;TZID=America/New_York:20240427T100000
DTEND;TZID=America/New_York:20240427T160000
DTSTAMP:20260425T224932
CREATED:20240426T035843Z
LAST-MODIFIED:20240426T035844Z
UID:5833-1714212000-1714233600@womenscluboflakejovita.com
SUMMARY:WWII Living History Event
DESCRIPTION:The WWII Living History Event at the Pioneer Florida Museum is an opportunity for visitors to step back in time to a 1946 homefront experience and interact with living historians portraying life in Lacoochee\, FL during the final months of the war. From historical displays to interactive exhibits that bring to life the era of World War II\, visitors can learn about the impact of women in war\, German POWs in Florida\, the influence of radio\, and more.
URL:https://womenscluboflakejovita.com/event/wwii-living-history-event/
LOCATION:Pioneer Village Museum\, 15602 Pioneer Museum Rd.\, Dade City\, Florida\, 33523
ATTACH;FMTTYPE=image/png:https://womenscluboflakejovita.com/wp-content/uploads/2024/04/2024_WW2_Living_History_Event_April.png
END:VEVENT
BEGIN:VEVENT
DTSTART;TZID=America/New_York:20240427T100000
DTEND;TZID=America/New_York:20240427T160000
DTSTAMP:20260425T224932
CREATED:20240426T025424Z
LAST-MODIFIED:20240426T025425Z
UID:5805-1714212000-1714233600@womenscluboflakejovita.com
SUMMARY:DADE CITY FARM'S SUNFLOWER FESTIVAL
DESCRIPTION:Mark your calendars for the weekends of April 20-21 and April 27-28\, as the festivities unfold from 10 a.m. to 4 p.m. at the Dade City Farms’ inaugural Sunflower Festival at 17187 Lake Iola Road! \n\n\n\n\n\nEmbrace the essence of spring as you explore the sprawling fields bursting with vibrant U-Pick sunflowers\, available for just $2 per stem. Dive into the excitement of gem mining\, take a peaceful hayride\, and enjoy a petting zoo with adorable camels\, majestic highland cows\, and friendly goats. Shop for treasures from a selection of local vendors\, treat your taste buds to savory BBQ\, freshly made boba tea\, and footlong hot dogs. Secure your tickets conveniently online or purchase them at the farm’s entrance\, priced at $12 for adults and $9 for children.
URL:https://womenscluboflakejovita.com/event/dade-city-farms-sunflower-festival/
LOCATION:Dade City Farms\, 17187 Lake Iola Road\, Dade City\, Florida\, 33523
ATTACH;FMTTYPE=image/jpeg:https://womenscluboflakejovita.com/wp-content/uploads/2024/04/sunflower.jpg
END:VEVENT
BEGIN:VEVENT
DTSTART;TZID=America/New_York:20240424T120000
DTEND;TZID=America/New_York:20240424T130000
DTSTAMP:20260425T224932
CREATED:20240319T214231Z
LAST-MODIFIED:20240319T220243Z
UID:5729-1713960000-1713963600@womenscluboflakejovita.com
SUMMARY:WCLJ Stitcher's Club
DESCRIPTION:Join the Stitcher’s Club! They meet every Wednesday at the Club Grill Room!
URL:https://womenscluboflakejovita.com/event/wclj-stitchers-club-12/
LOCATION:Florida
ATTACH;FMTTYPE=image/png:https://womenscluboflakejovita.com/wp-content/uploads/2024/02/stitch.png
END:VEVENT
BEGIN:VEVENT
DTSTART;TZID=America/New_York:20240424T000000
DTEND;TZID=America/New_York:20240424T000000
DTSTAMP:20260425T224932
CREATED:20240220T022410Z
LAST-MODIFIED:20240220T022411Z
UID:5595-1713916800-1713916800@womenscluboflakejovita.com
SUMMARY:Administrative Professionals Day
DESCRIPTION:
URL:https://womenscluboflakejovita.com/event/administrative-professionals-day/
LOCATION:Florida
END:VEVENT
BEGIN:VEVENT
DTSTART;TZID=America/New_York:20240420T183000
DTEND;TZID=America/New_York:20240420T213000
DTSTAMP:20260425T224932
CREATED:20240403T071630Z
LAST-MODIFIED:20240403T071631Z
UID:5781-1713637800-1713648600@womenscluboflakejovita.com
SUMMARY:St Leo Casino Night
DESCRIPTION:Join the Saint Leo University Athletics Department for a casino night fundraiser on Saturday\, April 20\, 2024\, 6:30 – 9:30 p.m. at the Saint Leo University Wellness Center. This unforgettable experience will benefit the Saint Leo University Athletic Department.
URL:https://womenscluboflakejovita.com/event/st-leo-casino-night/
LOCATION:St Leo Wellness Center\, 12338 Priory Cir\, San Antonio\, Florida\, 33576\, United States
ATTACH;FMTTYPE=image/png:https://womenscluboflakejovita.com/wp-content/uploads/2024/04/Casino-Night-Half-Sheet-Flyer-copy.png
END:VEVENT
BEGIN:VEVENT
DTSTART;TZID=America/New_York:20240420T090000
DTEND;TZID=America/New_York:20240420T180000
DTSTAMP:20260425T224932
CREATED:20240312T014913Z
LAST-MODIFIED:20240312T015949Z
UID:5694-1713603600-1713636000@womenscluboflakejovita.com
SUMMARY:Dade City Art Walk
DESCRIPTION:An exciting day of local art throughout Historic Dade City with over 20+ Art locations. Meet the Artists\, Shop Local Artwork\, Little Pre-Casso Exhibitor for Young Aspiring Artists. Additional information will be provided as they are released.
URL:https://womenscluboflakejovita.com/event/dade-city-art-walk/
LOCATION:Downtown Dade City\, FL\, Dade City\, Florida\, United States
ATTACH;FMTTYPE=image/png:https://womenscluboflakejovita.com/wp-content/uploads/2024/03/DCCA.png
END:VEVENT
END:VCALENDAR