BEGIN:VCALENDAR
VERSION:2.0
PRODID:-//Women&#039;s Club of Lake Jovita - ECPv6.15.3//NONSGML v1.0//EN
CALSCALE:GREGORIAN
METHOD:PUBLISH
X-WR-CALNAME:Women&#039;s Club of Lake Jovita
X-ORIGINAL-URL:https://womenscluboflakejovita.com
X-WR-CALDESC:Events for Women&#039;s Club of Lake Jovita
REFRESH-INTERVAL;VALUE=DURATION:PT1H
X-Robots-Tag:noindex
X-PUBLISHED-TTL:PT1H
BEGIN:VTIMEZONE
TZID:America/New_York
BEGIN:DAYLIGHT
TZOFFSETFROM:-0500
TZOFFSETTO:-0400
TZNAME:EDT
DTSTART:20240310T070000
END:DAYLIGHT
BEGIN:STANDARD
TZOFFSETFROM:-0400
TZOFFSETTO:-0500
TZNAME:EST
DTSTART:20241103T060000
END:STANDARD
END:VTIMEZONE
BEGIN:VEVENT
DTSTART;TZID=America/New_York:20240508T120000
DTEND;TZID=America/New_York:20240508T130000
DTSTAMP:20260425T215736
CREATED:20240426T040828Z
LAST-MODIFIED:20240426T040829Z
UID:5840-1715169600-1715173200@womenscluboflakejovita.com
SUMMARY:WCLJ STITCHER'S CLUB
DESCRIPTION:
URL:https://womenscluboflakejovita.com/event/wclj-stitchers-club-14/
LOCATION:Lake Jovita GCC\, 12900 Lake Jovita Blvd\, Dade City\, FL\, 33525\, United States
ATTACH;FMTTYPE=image/png:https://womenscluboflakejovita.com/wp-content/uploads/2024/02/stitch.png
END:VEVENT
BEGIN:VEVENT
DTSTART;TZID=America/New_York:20240506T090000
DTEND;TZID=America/New_York:20240506T140000
DTSTAMP:20260425T215736
CREATED:20240420T011306Z
LAST-MODIFIED:20240426T030454Z
UID:5796-1714986000-1715004000@womenscluboflakejovita.com
SUMMARY:WCLJ LUNCH BUNCH: CADDY'S AT JOHN'S PASS
DESCRIPTION:Lunch Bunch will be going to Caddy’s in John’s Pass Village & Boardwalk\, 190 Boardwalk Pl\, E. Madeira Beach. There is plenty of shopping to be done so wear comfortable shoes. We will be leaving from the clubhouse at 9:00am.  Lunch will be 11:30. Contact Tinna Knight if you’re going.
URL:https://womenscluboflakejovita.com/event/wclj-lunch-bunch-caddys-madeira-beach/
LOCATION:Caddy’s John’s Pass\, 190 Boardwalk\, E. Madeira Beach\, Florida\, 33708\, United States
ATTACH;FMTTYPE=image/png:https://womenscluboflakejovita.com/wp-content/uploads/2024/04/caddys.png
END:VEVENT
BEGIN:VEVENT
DTSTART;TZID=America/New_York:20240505T130000
DTEND;TZID=America/New_York:20240505T190000
DTSTAMP:20260425T215736
CREATED:20240426T033905Z
LAST-MODIFIED:20240426T033906Z
UID:5823-1714914000-1714935600@womenscluboflakejovita.com
SUMMARY:Cinco de Mayo Latin Food & Music Festival
DESCRIPTION:A fun day of live music\, food and drinks at the beautiful Barrington Hills Farms! Salsa\, Bachata\, Merengue and more to enjoy!
URL:https://womenscluboflakejovita.com/event/cinco-de-mayo-latin-food-music-festival/
LOCATION:Barrington Hills Farms\, 16117 Lake Iola Road\, Dade City\, Florida\, 33523\, United States
ATTACH;FMTTYPE=image/jpeg:https://womenscluboflakejovita.com/wp-content/uploads/2024/04/cinco-de-mayo.jpg
END:VEVENT
BEGIN:VEVENT
DTSTART;TZID=America/New_York:20240504T163000
DTEND;TZID=America/New_York:20240504T190000
DTSTAMP:20260425T215736
CREATED:20240319T214232Z
LAST-MODIFIED:20240319T215530Z
UID:5730-1714840200-1714849200@womenscluboflakejovita.com
SUMMARY:5th Annual Hats & Horses Derby
DESCRIPTION:This Kentucky Derby Party benefits Caterpillars to Butterflies Charitable Foundation\, Inc.\, a local non-profit helping foster children achieve transformation\, creativity and their endless potential. For additional information on the foundation\, visit their website at https://caterflies.org/ \nYour ticket includes southern cuisine and an open bar complete with mint juleps. Enjoy the live Kentucky Derby Race\, a live band\, casino games\, contests for best hat and best dressed\, a silent auction\, a live auction and much more! \nTickets are $100 in advance/ $125 at the door. Sponsorship packages are available\, which include tickets to the event. Should you have any questions or wish to become a sponsor\, please call (352) 427-0332 or email jeanie6950rotary@gmail.com \nhttps://www.eventbrite.com/e/hats-horses-2024-tickets-861697198517?aff=oddtdtcreator
URL:https://womenscluboflakejovita.com/event/5th-annual-hats-horses-derby/
LOCATION:Waller Ranch\, 17307 Powerline Rd\, Dade City\, FL 33523\, Dade City\, Florida\, 33525\, United States
ATTACH;FMTTYPE=image/jpeg:https://womenscluboflakejovita.com/wp-content/uploads/2024/03/Rotary-Club-Derby.jpg
END:VEVENT
BEGIN:VEVENT
DTSTART;TZID=America/New_York:20240501T000000
DTEND;TZID=America/New_York:20240501T010000
DTSTAMP:20260425T215736
CREATED:20240426T040457Z
LAST-MODIFIED:20240426T040458Z
UID:5838-1714521600-1714525200@womenscluboflakejovita.com
SUMMARY:WCLJ STITCHER'S CLUB
DESCRIPTION:
URL:https://womenscluboflakejovita.com/event/wclj-stitchers-club-13/
LOCATION:Lake Jovita GCC\, 12900 Lake Jovita Blvd\, Dade City\, FL\, 33525\, United States
ATTACH;FMTTYPE=image/png:https://womenscluboflakejovita.com/wp-content/uploads/2024/02/stitch.png
END:VEVENT
BEGIN:VEVENT
DTSTART;TZID=America/New_York:20240427T100000
DTEND;TZID=America/New_York:20240427T160000
DTSTAMP:20260425T215736
CREATED:20240426T035843Z
LAST-MODIFIED:20240426T035844Z
UID:5833-1714212000-1714233600@womenscluboflakejovita.com
SUMMARY:WWII Living History Event
DESCRIPTION:The WWII Living History Event at the Pioneer Florida Museum is an opportunity for visitors to step back in time to a 1946 homefront experience and interact with living historians portraying life in Lacoochee\, FL during the final months of the war. From historical displays to interactive exhibits that bring to life the era of World War II\, visitors can learn about the impact of women in war\, German POWs in Florida\, the influence of radio\, and more.
URL:https://womenscluboflakejovita.com/event/wwii-living-history-event/
LOCATION:Pioneer Village Museum\, 15602 Pioneer Museum Rd.\, Dade City\, Florida\, 33523
ATTACH;FMTTYPE=image/png:https://womenscluboflakejovita.com/wp-content/uploads/2024/04/2024_WW2_Living_History_Event_April.png
END:VEVENT
BEGIN:VEVENT
DTSTART;TZID=America/New_York:20240427T100000
DTEND;TZID=America/New_York:20240427T160000
DTSTAMP:20260425T215736
CREATED:20240426T025424Z
LAST-MODIFIED:20240426T025425Z
UID:5805-1714212000-1714233600@womenscluboflakejovita.com
SUMMARY:DADE CITY FARM'S SUNFLOWER FESTIVAL
DESCRIPTION:Mark your calendars for the weekends of April 20-21 and April 27-28\, as the festivities unfold from 10 a.m. to 4 p.m. at the Dade City Farms’ inaugural Sunflower Festival at 17187 Lake Iola Road! \n\n\n\n\n\nEmbrace the essence of spring as you explore the sprawling fields bursting with vibrant U-Pick sunflowers\, available for just $2 per stem. Dive into the excitement of gem mining\, take a peaceful hayride\, and enjoy a petting zoo with adorable camels\, majestic highland cows\, and friendly goats. Shop for treasures from a selection of local vendors\, treat your taste buds to savory BBQ\, freshly made boba tea\, and footlong hot dogs. Secure your tickets conveniently online or purchase them at the farm’s entrance\, priced at $12 for adults and $9 for children.
URL:https://womenscluboflakejovita.com/event/dade-city-farms-sunflower-festival/
LOCATION:Dade City Farms\, 17187 Lake Iola Road\, Dade City\, Florida\, 33523
ATTACH;FMTTYPE=image/jpeg:https://womenscluboflakejovita.com/wp-content/uploads/2024/04/sunflower.jpg
END:VEVENT
BEGIN:VEVENT
DTSTART;TZID=America/New_York:20240424T120000
DTEND;TZID=America/New_York:20240424T130000
DTSTAMP:20260425T215736
CREATED:20240319T214231Z
LAST-MODIFIED:20240319T220243Z
UID:5729-1713960000-1713963600@womenscluboflakejovita.com
SUMMARY:WCLJ Stitcher's Club
DESCRIPTION:Join the Stitcher’s Club! They meet every Wednesday at the Club Grill Room!
URL:https://womenscluboflakejovita.com/event/wclj-stitchers-club-12/
LOCATION:Florida
ATTACH;FMTTYPE=image/png:https://womenscluboflakejovita.com/wp-content/uploads/2024/02/stitch.png
END:VEVENT
BEGIN:VEVENT
DTSTART;TZID=America/New_York:20240424T000000
DTEND;TZID=America/New_York:20240424T000000
DTSTAMP:20260425T215736
CREATED:20240220T022410Z
LAST-MODIFIED:20240220T022411Z
UID:5595-1713916800-1713916800@womenscluboflakejovita.com
SUMMARY:Administrative Professionals Day
DESCRIPTION:
URL:https://womenscluboflakejovita.com/event/administrative-professionals-day/
LOCATION:Florida
END:VEVENT
BEGIN:VEVENT
DTSTART;TZID=America/New_York:20240420T183000
DTEND;TZID=America/New_York:20240420T213000
DTSTAMP:20260425T215736
CREATED:20240403T071630Z
LAST-MODIFIED:20240403T071631Z
UID:5781-1713637800-1713648600@womenscluboflakejovita.com
SUMMARY:St Leo Casino Night
DESCRIPTION:Join the Saint Leo University Athletics Department for a casino night fundraiser on Saturday\, April 20\, 2024\, 6:30 – 9:30 p.m. at the Saint Leo University Wellness Center. This unforgettable experience will benefit the Saint Leo University Athletic Department.
URL:https://womenscluboflakejovita.com/event/st-leo-casino-night/
LOCATION:St Leo Wellness Center\, 12338 Priory Cir\, San Antonio\, Florida\, 33576\, United States
ATTACH;FMTTYPE=image/png:https://womenscluboflakejovita.com/wp-content/uploads/2024/04/Casino-Night-Half-Sheet-Flyer-copy.png
END:VEVENT
BEGIN:VEVENT
DTSTART;TZID=America/New_York:20240420T090000
DTEND;TZID=America/New_York:20240420T180000
DTSTAMP:20260425T215736
CREATED:20240312T014913Z
LAST-MODIFIED:20240312T015949Z
UID:5694-1713603600-1713636000@womenscluboflakejovita.com
SUMMARY:Dade City Art Walk
DESCRIPTION:An exciting day of local art throughout Historic Dade City with over 20+ Art locations. Meet the Artists\, Shop Local Artwork\, Little Pre-Casso Exhibitor for Young Aspiring Artists. Additional information will be provided as they are released.
URL:https://womenscluboflakejovita.com/event/dade-city-art-walk/
LOCATION:Downtown Dade City\, FL\, Dade City\, Florida\, United States
ATTACH;FMTTYPE=image/png:https://womenscluboflakejovita.com/wp-content/uploads/2024/03/DCCA.png
END:VEVENT
BEGIN:VEVENT
DTSTART;TZID=America/New_York:20240418T110000
DTEND;TZID=America/New_York:20240418T140000
DTSTAMP:20260425T215736
CREATED:20240227T013946Z
LAST-MODIFIED:20240420T010147Z
UID:5668-1713438000-1713448800@womenscluboflakejovita.com
SUMMARY:WCLJ Learning Ladies: All About Bees- Cancelled!
DESCRIPTION:Join the Learning Ladies for an afternoon of Beekeeping 101 with Andrew Fisher of Fisher Bee Farm.
URL:https://womenscluboflakejovita.com/event/wclj-learning-ladies-the-art-science-of-beekeeping/
LOCATION:Lake Jovita Golf and Country Club
ATTACH;FMTTYPE=image/jpeg:https://womenscluboflakejovita.com/wp-content/uploads/2024/02/Beekeeping.jpg
END:VEVENT
BEGIN:VEVENT
DTSTART;TZID=America/New_York:20240417T120000
DTEND;TZID=America/New_York:20240417T130000
DTSTAMP:20260425T215736
CREATED:20240319T214230Z
LAST-MODIFIED:20240319T223418Z
UID:5728-1713355200-1713358800@womenscluboflakejovita.com
SUMMARY:WCLJ Stitcher's Club
DESCRIPTION:Join the Stitcher’s Club! They meet every Wednesday at the Club Grill Room!
URL:https://womenscluboflakejovita.com/event/wclj-stitchers-club-11/
LOCATION:Florida
ATTACH;FMTTYPE=image/png:https://womenscluboflakejovita.com/wp-content/uploads/2024/02/stitch.png
END:VEVENT
BEGIN:VEVENT
DTSTART;TZID=America/New_York:20240416T160000
DTEND;TZID=America/New_York:20240416T170000
DTSTAMP:20260425T215736
CREATED:20240319T214232Z
LAST-MODIFIED:20240326T025249Z
UID:5734-1713283200-1713286800@womenscluboflakejovita.com
SUMMARY:WCLJ Book Club
DESCRIPTION:Book of the Month: Queenie of Norwich by L.K. Wilder
URL:https://womenscluboflakejovita.com/event/wclj-book-club-3/
LOCATION:Lake Jovita Golf and Country Club Grill Room\, 12900 Lake Jovita Blvd.\, Dade City\, Florida\, 33525\, United States
ATTACH;FMTTYPE=image/jpeg:https://womenscluboflakejovita.com/wp-content/uploads/2024/03/Queenie-of-Norwich.jpg
END:VEVENT
BEGIN:VEVENT
DTSTART;TZID=America/New_York:20240415T000000
DTEND;TZID=America/New_York:20240415T000000
DTSTAMP:20260425T215736
CREATED:20240220T022410Z
LAST-MODIFIED:20240220T022411Z
UID:5594-1713139200-1713139200@womenscluboflakejovita.com
SUMMARY:Tax Day
DESCRIPTION:
URL:https://womenscluboflakejovita.com/event/tax-day/
LOCATION:Florida
END:VEVENT
BEGIN:VEVENT
DTSTART;TZID=America/New_York:20240413T140000
DTEND;TZID=America/New_York:20240413T170000
DTSTAMP:20260425T215736
CREATED:20240312T014912Z
LAST-MODIFIED:20240312T020737Z
UID:5693-1713016800-1713027600@womenscluboflakejovita.com
SUMMARY:Uncorked Garden Party
DESCRIPTION:
URL:https://womenscluboflakejovita.com/event/uncorked-garden-party/
LOCATION:Florida
ATTACH;FMTTYPE=image/png:https://womenscluboflakejovita.com/wp-content/uploads/2024/03/Garden-Club.png
END:VEVENT
BEGIN:VEVENT
DTSTART;TZID=America/New_York:20240411T170000
DTEND;TZID=America/New_York:20240411T210000
DTSTAMP:20260425T215736
CREATED:20240227T014711Z
LAST-MODIFIED:20240403T073137Z
UID:5671-1712854800-1712869200@womenscluboflakejovita.com
SUMMARY:WCLJ April General Meeting: Annual Fashion Show
DESCRIPTION:Join WCLJ for our annual fashion show and show support for our beautiful models on the red carpet!
URL:https://womenscluboflakejovita.com/event/wclj-april-general-meeting-annual-fashion-show/
LOCATION:Lake Jovita GCC\, 12900 Lake Jovita Blvd\, Dade City\, FL\, 33525\, United States
ATTACH;FMTTYPE=image/jpeg:https://womenscluboflakejovita.com/wp-content/uploads/2023/05/20230413_192901-scaled.jpg
END:VEVENT
BEGIN:VEVENT
DTSTART;TZID=America/New_York:20240410T120000
DTEND;TZID=America/New_York:20240410T130000
DTSTAMP:20260425T215736
CREATED:20240319T214230Z
LAST-MODIFIED:20240319T215914Z
UID:5727-1712750400-1712754000@womenscluboflakejovita.com
SUMMARY:WCLJ Stitcher's Club
DESCRIPTION:Join the Stitcher’s Club! They meet every Wednesday at the Club Grill Room!
URL:https://womenscluboflakejovita.com/event/wclj-stitchers-club-10/
LOCATION:Florida
ATTACH;FMTTYPE=image/png:https://womenscluboflakejovita.com/wp-content/uploads/2024/02/stitch.png
END:VEVENT
BEGIN:VEVENT
DTSTART;TZID=America/New_York:20240406T160000
DTEND;TZID=America/New_York:20240406T180000
DTSTAMP:20260425T215736
CREATED:20240312T014912Z
LAST-MODIFIED:20240319T220653Z
UID:5692-1712419200-1712426400@womenscluboflakejovita.com
SUMMARY:Preserves Block Party
DESCRIPTION:
URL:https://womenscluboflakejovita.com/event/preserve-block-party/
LOCATION:The Preserves\, 12341 Forest Highlands\, Dade City\, Florida\, 33525\, United States
ATTACH;FMTTYPE=image/png:https://womenscluboflakejovita.com/wp-content/uploads/2024/03/block-party.png
END:VEVENT
BEGIN:VEVENT
DTSTART;TZID=America/New_York:20240406T120000
DTEND;TZID=America/New_York:20240406T170000
DTSTAMP:20260425T215736
CREATED:20240312T014912Z
LAST-MODIFIED:20240312T022346Z
UID:5691-1712404800-1712422800@womenscluboflakejovita.com
SUMMARY:Dade City Cruise In/Car Show
DESCRIPTION:Dade City Car Show\, 1st Saturday monthly\, Noon-5 PM\, around the Historic Pasco County Courthouse on Pasco Ave and 6th St. Closed June – August. s
URL:https://womenscluboflakejovita.com/event/dade-city-cruise-in-car-show-3/
LOCATION:Downtown Dade City\, 37918 Meridian Ave\, Dade City\, Florida\, 33525
ATTACH;FMTTYPE=image/jpeg:https://womenscluboflakejovita.com/wp-content/uploads/2024/02/car.jpg
END:VEVENT
BEGIN:VEVENT
DTSTART;TZID=America/New_York:20240403T120000
DTEND;TZID=America/New_York:20240403T130000
DTSTAMP:20260425T215736
CREATED:20240312T022700Z
LAST-MODIFIED:20240319T215826Z
UID:5718-1712145600-1712149200@womenscluboflakejovita.com
SUMMARY:WCLJ Stitcher's Club
DESCRIPTION:Join the Stitcher’s Club! They meet every Wednesday at the Club Grill Room!
URL:https://womenscluboflakejovita.com/event/wclj-stitchers-club-9/
LOCATION:Lake Jovita Golf and Country Club Grill Room\, 12900 Lake Jovita Blvd.\, Dade City\, Florida\, 33525\, United States
ATTACH;FMTTYPE=image/png:https://womenscluboflakejovita.com/wp-content/uploads/2024/02/stitch.png
END:VEVENT
BEGIN:VEVENT
DTSTART;TZID=America/New_York:20240331T100000
DTEND;TZID=America/New_York:20240331T140000
DTSTAMP:20260425T215736
CREATED:20240219T183741Z
LAST-MODIFIED:20240219T195430Z
UID:5498-1711879200-1711893600@womenscluboflakejovita.com
SUMMARY:Easter Brunch at Lake Jovita GCC
DESCRIPTION:Open to All Residents\, Reservations Required! Contact 352-588-2233 or events@lakejovita.com
URL:https://womenscluboflakejovita.com/event/easter-brunch/
LOCATION:Lake Jovita GCC\, 12900 Lake Jovita Blvd\, Dade City\, FL\, 33525\, United States
ATTACH;FMTTYPE=image/jpeg:https://womenscluboflakejovita.com/wp-content/uploads/2024/02/easter-brunch.jpg
END:VEVENT
BEGIN:VEVENT
DTSTART;TZID=America/New_York:20240331T000000
DTEND;TZID=America/New_York:20240331T000000
DTSTAMP:20260425T215736
CREATED:20240220T022410Z
LAST-MODIFIED:20240220T023628Z
UID:5593-1711843200-1711843200@womenscluboflakejovita.com
SUMMARY:Easter Sunday
DESCRIPTION:
URL:https://womenscluboflakejovita.com/event/easter-sunday/
LOCATION:Florida
ATTACH;FMTTYPE=image/jpeg:https://womenscluboflakejovita.com/wp-content/uploads/2024/02/EASTER1.jpg
END:VEVENT
BEGIN:VEVENT
DTSTART;TZID=America/New_York:20240327T120000
DTEND;TZID=America/New_York:20240327T130000
DTSTAMP:20260425T215736
CREATED:20240227T013054Z
LAST-MODIFIED:20240227T013055Z
UID:5666-1711540800-1711544400@womenscluboflakejovita.com
SUMMARY:WCLJ STITCHER'S CLUB
DESCRIPTION:Join the WCLJ Stitcher’s Club at the LJ Club Grill Room.
URL:https://womenscluboflakejovita.com/event/wclj-stitchers-club-8/
LOCATION:Lake Jovita Golf and Country Club Grill Room\, 12900 Lake Jovita Blvd.\, Dade City\, Florida\, 33525\, United States
END:VEVENT
BEGIN:VEVENT
DTSTART;TZID=America/New_York:20240325T073000
DTEND;TZID=America/New_York:20240325T150000
DTSTAMP:20260425T215736
CREATED:20240219T183739Z
LAST-MODIFIED:20240219T192752Z
UID:5497-1711351800-1711378800@womenscluboflakejovita.com
SUMMARY:Blood Drive & OnSpot Dermatology
DESCRIPTION:Come and see OnSpot Dermatology for skin cancer screening\, liquid nitrogen treatment\, prescription needs\, and more. Call (941)444-0011 with questions or to schedule a 15 minute appointment. Accepts most major insurance plans and competitive self-pay rates are available.
URL:https://womenscluboflakejovita.com/event/blood-drive-onspot-dermatology/
LOCATION:Florida
ATTACH;FMTTYPE=image/png:https://womenscluboflakejovita.com/wp-content/uploads/2024/02/onspot.png
END:VEVENT
BEGIN:VEVENT
DTSTART;TZID=America/New_York:20240323T090000
DTEND;TZID=America/New_York:20240323T120000
DTSTAMP:20260425T215736
CREATED:20240319T221831Z
LAST-MODIFIED:20240319T221832Z
UID:5759-1711184400-1711195200@womenscluboflakejovita.com
SUMMARY:ST LEO NATIVE PLANT WORKSHOP
DESCRIPTION:Join Saint Leo University for a Florida Native Plant Workshop next Saturday! \n\n\n\nThere will even be free plants given on a first come\, first serve basis (limited supply).
URL:https://womenscluboflakejovita.com/event/st-leo-native-plant-workshop/
LOCATION:DECHANTAL HALL\, 33701 County Road 52\, ST LEO\, FLORIDA\, 33574\, United States
ATTACH;FMTTYPE=image/jpeg:https://womenscluboflakejovita.com/wp-content/uploads/2024/03/Florida-Native-Plant-Day.jpg
END:VEVENT
BEGIN:VEVENT
DTSTART;TZID=America/New_York:20240320T120000
DTEND;TZID=America/New_York:20240320T130000
DTSTAMP:20260425T215736
CREATED:20240227T012903Z
LAST-MODIFIED:20240227T012904Z
UID:5664-1710936000-1710939600@womenscluboflakejovita.com
SUMMARY:WCLJ STITCHER'S CLUB
DESCRIPTION:Join the WCLJ Stitcher’s Club at the LJ Club Grill Room.
URL:https://womenscluboflakejovita.com/event/wclj-stitchers-club-7/
LOCATION:Lake Jovita Golf and Country Club Grill Room\, 12900 Lake Jovita Blvd.\, Dade City\, Florida\, 33525\, United States
END:VEVENT
BEGIN:VEVENT
DTSTART;TZID=America/New_York:20240319T110000
DTEND;TZID=America/New_York:20240319T140000
DTSTAMP:20260425T215736
CREATED:20240219T190503Z
LAST-MODIFIED:20240219T195504Z
UID:5511-1710846000-1710856800@womenscluboflakejovita.com
SUMMARY:WCLJ Book club
DESCRIPTION:Check back soon for more information!
URL:https://womenscluboflakejovita.com/event/wclj-book-club-2/
LOCATION:Lake Jovita Golf and Country Club Grill Room\, 12900 Lake Jovita Blvd.\, Dade City\, Florida\, 33525\, United States
ATTACH;FMTTYPE=image/png:https://womenscluboflakejovita.com/wp-content/uploads/2024/02/book-club.png
END:VEVENT
BEGIN:VEVENT
DTSTART;TZID=America/New_York:20240317T000000
DTEND;TZID=America/New_York:20240317T000000
DTSTAMP:20260425T215736
CREATED:20240220T022408Z
LAST-MODIFIED:20240220T023938Z
UID:5592-1710633600-1710633600@womenscluboflakejovita.com
SUMMARY:St. Patrick's Day
DESCRIPTION:
URL:https://womenscluboflakejovita.com/event/st-patricks-day/
LOCATION:Florida
ATTACH;FMTTYPE=image/jpeg:https://womenscluboflakejovita.com/wp-content/uploads/2024/02/ST-PAT-DAY.jpg
END:VEVENT
BEGIN:VEVENT
DTSTART;TZID=America/New_York:20240316T160000
DTEND;TZID=America/New_York:20240316T190000
DTSTAMP:20260425T215736
CREATED:20240108T171952Z
LAST-MODIFIED:20240219T195726Z
UID:5287-1710604800-1710615600@womenscluboflakejovita.com
SUMMARY:Lake Jovita Cars in the Park
DESCRIPTION:
URL:https://womenscluboflakejovita.com/event/lake-jovita-cars-in-the-park/
LOCATION:Florida
ATTACH;FMTTYPE=image/jpeg:https://womenscluboflakejovita.com/wp-content/uploads/2024/01/Car-Show-flyer-2024-front-and-back-1_Page_1-scaled.jpg
END:VEVENT
END:VCALENDAR