BEGIN:VCALENDAR
VERSION:2.0
PRODID:-//Women&#039;s Club of Lake Jovita - ECPv6.15.3//NONSGML v1.0//EN
CALSCALE:GREGORIAN
METHOD:PUBLISH
X-ORIGINAL-URL:https://womenscluboflakejovita.com
X-WR-CALDESC:Events for Women&#039;s Club of Lake Jovita
REFRESH-INTERVAL;VALUE=DURATION:PT1H
X-Robots-Tag:noindex
X-PUBLISHED-TTL:PT1H
BEGIN:VTIMEZONE
TZID:America/New_York
BEGIN:DAYLIGHT
TZOFFSETFROM:-0500
TZOFFSETTO:-0400
TZNAME:EDT
DTSTART:20260308T070000
END:DAYLIGHT
BEGIN:STANDARD
TZOFFSETFROM:-0400
TZOFFSETTO:-0500
TZNAME:EST
DTSTART:20261101T060000
END:STANDARD
END:VTIMEZONE
BEGIN:VEVENT
DTSTART;TZID=America/New_York:20260409T170000
DTEND;TZID=America/New_York:20260409T210000
DTSTAMP:20260425T090244
CREATED:20260407T144836Z
LAST-MODIFIED:20260407T145733Z
UID:6678-1775754000-1775768400@womenscluboflakejovita.com
SUMMARY:Women's Club of Lake Jovita April General Meeting: Gypsy Edge Band
DESCRIPTION:Join us this month for the Premier Event of the Year\, featuring the sensational tribute band\, “Gypsy Edge”\, honoring the legendary Stevie Kicks and Fleetwood Mac!
URL:https://womenscluboflakejovita.com/event/womens-club-of-lake-jovita-april-general-meeting-gypsy-edge-band/
LOCATION:LJGCC\, 12900 Lake Jovita Blvd\, Dade City\, Florida\, 33525\, United States
ATTACH;FMTTYPE=image/jpeg:https://womenscluboflakejovita.com/wp-content/uploads/2026/04/Stevie-Nicks.jpg
END:VEVENT
BEGIN:VEVENT
DTSTART;TZID=America/New_York:20260413T170000
DTEND;TZID=America/New_York:20260413T190000
DTSTAMP:20260425T090244
CREATED:20260407T143037Z
LAST-MODIFIED:20260407T145935Z
UID:6673-1776099600-1776106800@womenscluboflakejovita.com
SUMMARY:Spring Vintage Vibes at the Wine Library
DESCRIPTION:Join WCDA on April 13th at 5pm in the beautifully appointed Wine Library\, where we will indulge in wonderful wines and spirits\, alongside a delectable Le Garden Bistro Buffet\, all set to their very own “Cafe House Modern Jazz” music. \n\n\n\nThis event is open exclusively for our WCDA group\, creating a perfect atmosphere to connect and celebrate a beautiful spring evening! \n\n\n\nIncluded in the event \n\n\n\n\nDrinks 2 glasses per person (House Wines\, Sangria’s Bubbles Beer and Mocktails)\n\n\n\nDinner – La Garden Bistro Buffet items\, Burger sliders\, savory meatballs\, bistro salad and tuna tartare\n\n\n\nWine Library’s fabulous music mix\n\n\n\nMingle with friends \n\n\n\n\nCost per person for the evening is $55 per person (includes  2 drinks\, food and tip) \n\n\n\nLocation: \n\n\n\nWine Library – 14221 7th Street Dade City (Downtown) \n\n\n\nhttps://www.instagram.com/thewinelibrarydadecity \n\n\n\nDates and Times : \n\n\n\nApril 13th 5pm – 7pm
URL:https://womenscluboflakejovita.com/event/spring-vintage-vibes-at-the-wine-library/
LOCATION:The Wine Library\, 14221 7th Street\, Dade City\, Florida\, 33525
ATTACH;FMTTYPE=image/jpeg:https://womenscluboflakejovita.com/wp-content/uploads/2026/04/Wine-library.jpeg
END:VEVENT
BEGIN:VEVENT
DTSTART;TZID=America/New_York:20260418T100000
DTEND;TZID=America/New_York:20260418T160000
DTSTAMP:20260425T090244
CREATED:20260104T021927Z
LAST-MODIFIED:20260104T021928Z
UID:6619-1776506400-1776528000@womenscluboflakejovita.com
SUMMARY:Monarch Butterfly Festival
DESCRIPTION:
URL:https://womenscluboflakejovita.com/event/monarch-butterfly-festival-2/
LOCATION:Dade City Garden Club\, 13630 5th Street\, Dade City\, Florida\, 33525\, United States
ATTACH;FMTTYPE=image/png:https://womenscluboflakejovita.com/wp-content/uploads/2026/01/final-a-2026-Monarch-Butterfly-Festival-flyer-1-1.png
END:VEVENT
END:VCALENDAR