BEGIN:VCALENDAR
VERSION:2.0
PRODID:-//Women&#039;s Club of Lake Jovita - ECPv6.15.3//NONSGML v1.0//EN
CALSCALE:GREGORIAN
METHOD:PUBLISH
X-WR-CALNAME:Women&#039;s Club of Lake Jovita
X-ORIGINAL-URL:https://womenscluboflakejovita.com
X-WR-CALDESC:Events for Women&#039;s Club of Lake Jovita
REFRESH-INTERVAL;VALUE=DURATION:PT1H
X-Robots-Tag:noindex
X-PUBLISHED-TTL:PT1H
BEGIN:VTIMEZONE
TZID:America/New_York
BEGIN:DAYLIGHT
TZOFFSETFROM:-0500
TZOFFSETTO:-0400
TZNAME:EDT
DTSTART:20240310T070000
END:DAYLIGHT
BEGIN:STANDARD
TZOFFSETFROM:-0400
TZOFFSETTO:-0500
TZNAME:EST
DTSTART:20241103T060000
END:STANDARD
END:VTIMEZONE
BEGIN:VEVENT
DTSTART;TZID=America/New_York:20241225T000000
DTEND;TZID=America/New_York:20241225T000000
DTSTAMP:20260425T123510
CREATED:20240220T031527Z
LAST-MODIFIED:20240220T033032Z
UID:5642-1735084800-1735084800@womenscluboflakejovita.com
SUMMARY:Christmas Day
DESCRIPTION:
URL:https://womenscluboflakejovita.com/event/christmas-day/
ATTACH;FMTTYPE=image/jpeg:https://womenscluboflakejovita.com/wp-content/uploads/2024/02/CHRISTMAS.jpg
END:VEVENT
BEGIN:VEVENT
DTSTART;TZID=America/New_York:20241224T000000
DTEND;TZID=America/New_York:20241224T000000
DTSTAMP:20260425T123510
CREATED:20240220T031527Z
LAST-MODIFIED:20240220T031527Z
UID:5641-1734998400-1734998400@womenscluboflakejovita.com
SUMMARY:Christmas Eve
DESCRIPTION:
URL:https://womenscluboflakejovita.com/event/christmas-eve/
END:VEVENT
BEGIN:VEVENT
DTSTART;TZID=America/New_York:20241221T190000
DTEND;TZID=America/New_York:20241223T210000
DTSTAMP:20260425T123510
CREATED:20241128T043955Z
LAST-MODIFIED:20241128T043959Z
UID:6187-1734807600-1734987600@womenscluboflakejovita.com
SUMMARY:Church Street Christmas
DESCRIPTION:This three-day event that happens each evening from 7 pm to 9 pm. Enjoy a stroll along the street as we celebrate the sights and sounds of the Christmas season. This annual tradition is a FREE event and is a gift from the residents and churches located on Church Avenue to the Dade City community. While being closed to vehicles each evening\, the street becomes a pedestrian walkway. Listen to musicians performing Christmas favorites on front porches\, lawns\, and inside local churches. Enjoy time with friends and family as you stroll the street lined with candle lights.
URL:https://womenscluboflakejovita.com/event/church-street-christmas/
LOCATION:Church Street\, Church Street\, Dade City\, Florida\, 33525\, United States
ATTACH;FMTTYPE=image/jpeg:https://womenscluboflakejovita.com/wp-content/uploads/2024/11/Candlelit1.jpg
END:VEVENT
BEGIN:VEVENT
DTSTART;TZID=America/New_York:20241221T180000
DTEND;TZID=America/New_York:20241221T190000
DTSTAMP:20260425T123510
CREATED:20241111T052559Z
LAST-MODIFIED:20241128T044554Z
UID:6167-1734804000-1734807600@womenscluboflakejovita.com
SUMMARY:6th Annual Christmas Golf Cart Parade
DESCRIPTION:Save the date! In case of bad weather\, the parade will be rescheduled for Dec. 22nd. Additional information coming soon!
URL:https://womenscluboflakejovita.com/event/6th-annual-christmas-golf-cart-parade/
ATTACH;FMTTYPE=image/png:https://womenscluboflakejovita.com/wp-content/uploads/2024/11/6th-Annual-Cart-Parade-Route-2024.png
END:VEVENT
BEGIN:VEVENT
DTSTART;TZID=America/New_York:20241221T160000
DTEND;TZID=America/New_York:20241221T180000
DTSTAMP:20260425T123510
CREATED:20241128T041628Z
LAST-MODIFIED:20241128T041630Z
UID:6179-1734796800-1734804000@womenscluboflakejovita.com
SUMMARY:Angel Tea Room "A Christmas Tea by Candlelight"
DESCRIPTION:Enjoy a special holiday 3-tier traditional holiday teas with finger sandwiches and petit dessert.
URL:https://womenscluboflakejovita.com/event/angel-tea-room-a-christmas-tea-by-candlelight/
LOCATION:Angel Tea Room\, 37847 Meridian Avenue\, Dade City\, Florida\, 33525\, United States
ATTACH;FMTTYPE=image/jpeg:https://womenscluboflakejovita.com/wp-content/uploads/2024/11/Angel-Tea-room.jpg
END:VEVENT
BEGIN:VEVENT
DTSTART;TZID=America/New_York:20241214T170000
DTEND;TZID=America/New_York:20241214T210000
DTSTAMP:20260425T123510
CREATED:20241128T035648Z
LAST-MODIFIED:20241128T035651Z
UID:6174-1734195600-1734210000@womenscluboflakejovita.com
SUMMARY:40th Annual Country Christmas Stroll
DESCRIPTION:Take a horse drawn carriage ride\, shop\, stroll the streets\, visit Santa and eat some delicious treats… all activities are free to the public!
URL:https://womenscluboflakejovita.com/event/40th-annual-country-christmas-stroll/
LOCATION:Historic Downtown Dade City\, 7th Avenue\, Dade City\, Florida\, 33525\, United States
ATTACH;FMTTYPE=image/jpeg:https://womenscluboflakejovita.com/wp-content/uploads/2024/11/christmas-stroll1.jpg
END:VEVENT
BEGIN:VEVENT
DTSTART;TZID=America/New_York:20241214T070000
DTEND;TZID=America/New_York:20241214T110000
DTSTAMP:20260425T123510
CREATED:20241111T044724Z
LAST-MODIFIED:20241111T050454Z
UID:6157-1734159600-1734174000@womenscluboflakejovita.com
SUMMARY:18th Annual Reindeer Run
DESCRIPTION:There will be prizes\, raffle (bring cash)\, costume contest\, refreshments and FUN for all. We will be using computerized chips to time the race. If you would like to be a sponsor\, click here for the form. You can register online or download/ fill out the registration form.  \n\n\n\nEarly Registration:   $35      Child under 12:  $20                                    \n\n\n\nLate Registration:    $40 Day of run                                                        
URL:https://womenscluboflakejovita.com/event/18th-annual-reindeer-run/
LOCATION:LJGCC\, 12900 Lake Jovita Blvd\, Dade City\, Florida\, 33525\, United States
ATTACH;FMTTYPE=image/png:https://womenscluboflakejovita.com/wp-content/uploads/2024/11/Reindeer-Run-flyer-2024.png
END:VEVENT
BEGIN:VEVENT
DTSTART;TZID=America/New_York:20241208T190000
DTEND;TZID=America/New_York:20241208T200000
DTSTAMP:20260425T123510
CREATED:20241027T035254Z
LAST-MODIFIED:20241027T035256Z
UID:6107-1733684400-1733688000@womenscluboflakejovita.com
SUMMARY:Dade City Christmas Parade
DESCRIPTION:
URL:https://womenscluboflakejovita.com/event/dade-city-christmas-parade/
ATTACH;FMTTYPE=image/jpeg:https://womenscluboflakejovita.com/wp-content/uploads/2024/10/Christmas-Parade.jpg
END:VEVENT
BEGIN:VEVENT
DTSTART;TZID=America/New_York:20241207T100000
DTEND;TZID=America/New_York:20241207T160000
DTSTAMP:20260425T123510
CREATED:20240919T011900Z
LAST-MODIFIED:20240919T011903Z
UID:6067-1733565600-1733587200@womenscluboflakejovita.com
SUMMARY:Pioneer Christmas and Vintage Market
DESCRIPTION:Discover a treasure trove of unique vendors\, offering the perfect Christmas presents for your loved ones.
URL:https://womenscluboflakejovita.com/event/pioneer-christmas-and-vintage-market/
LOCATION:Pioneer Village Museum\, 15602 Pioneer Museum Rd.\, Dade City\, Florida\, 33523
ATTACH;FMTTYPE=image/jpeg:https://womenscluboflakejovita.com/wp-content/uploads/2022/12/christmas-christmas-decoration-christmas-time-4646421.jpg
END:VEVENT
BEGIN:VEVENT
DTSTART;TZID=America/New_York:20241205T173000
DTEND;TZID=America/New_York:20241205T193000
DTSTAMP:20260425T123510
CREATED:20241027T025646Z
LAST-MODIFIED:20241027T025648Z
UID:6083-1733419800-1733427000@womenscluboflakejovita.com
SUMMARY:BUNCO
DESCRIPTION:Join the Bunco ladies for fun and friendship at Linda Manley’s home for an early Christmas party. She is making baked ziti dinner for everyone. There was plenty of wine left over from the previous get-together so it would be great if you could bring your favorite salads\, appetizers and desserts to go with the ziti! If you want to be included in the group distribution\, contact lakejovitawc@gmail.com
URL:https://womenscluboflakejovita.com/event/bunco/
ATTACH;FMTTYPE=image/png:https://womenscluboflakejovita.com/wp-content/uploads/2024/10/Bunco.png
END:VEVENT
BEGIN:VEVENT
DTSTART;TZID=America/New_York:20241201T170000
DTEND;TZID=America/New_York:20241201T190000
DTSTAMP:20260425T123510
CREATED:20241128T045456Z
LAST-MODIFIED:20241128T045458Z
UID:6193-1733072400-1733079600@womenscluboflakejovita.com
SUMMARY:Christmas Tree Lighting
DESCRIPTION:Join us at the Lake Jovita Golf & Country Club for the annual Christmas tree lighting ceremony followed by a buffet dinner.
URL:https://womenscluboflakejovita.com/event/christmas-tree-lighting/
LOCATION:LJGCC\, 12900 Lake Jovita Blvd\, Dade City\, Florida\, 33525\, United States
ATTACH;FMTTYPE=image/jpeg:https://womenscluboflakejovita.com/wp-content/uploads/2024/11/Christmas-Tree-Lighting-2024-scaled.jpg
END:VEVENT
BEGIN:VEVENT
DTSTART;TZID=America/New_York:20241129T000000
DTEND;TZID=America/New_York:20241129T000000
DTSTAMP:20260425T123510
CREATED:20240220T031407Z
LAST-MODIFIED:20240220T031407Z
UID:5638-1732838400-1732838400@womenscluboflakejovita.com
SUMMARY:Day after Thanksgiving Day
DESCRIPTION:
URL:https://womenscluboflakejovita.com/event/day-after-thanksgiving-day/
END:VEVENT
BEGIN:VEVENT
DTSTART;TZID=America/New_York:20241128T000000
DTEND;TZID=America/New_York:20241128T000000
DTSTAMP:20260425T123510
CREATED:20240220T031407Z
LAST-MODIFIED:20240220T031912Z
UID:5637-1732752000-1732752000@womenscluboflakejovita.com
SUMMARY:Thanksgiving Day
DESCRIPTION:
URL:https://womenscluboflakejovita.com/event/thanksgiving-day/
ATTACH;FMTTYPE=image/jpeg:https://womenscluboflakejovita.com/wp-content/uploads/2024/02/THANKSGIVING.jpg
END:VEVENT
BEGIN:VEVENT
DTSTART;TZID=America/New_York:20241119T160000
DTEND;TZID=America/New_York:20241119T170000
DTSTAMP:20260425T123510
CREATED:20241027T031544Z
LAST-MODIFIED:20241027T031545Z
UID:6090-1732032000-1732035600@womenscluboflakejovita.com
SUMMARY:WCLJ Book Club
DESCRIPTION:The next WCLJ Book Club meeting will be held on Tuesday\, November 19th at 4:00 pm in the Grill Room. The November book title is\, The Last Green Valley by Mark Sullivan. For more information\, contact Mary Horvat! 
URL:https://womenscluboflakejovita.com/event/wclj-book-club-10/
LOCATION:LJGCC\, 12900 Lake Jovita Blvd\, Dade City\, Florida\, 33525\, United States
ATTACH;FMTTYPE=image/jpeg:https://womenscluboflakejovita.com/wp-content/uploads/2024/10/Last-Green-Valley.jpg
END:VEVENT
BEGIN:VEVENT
DTSTART;TZID=America/New_York:20241116T160000
DTEND;TZID=America/New_York:20241116T190000
DTSTAMP:20260425T123510
CREATED:20240919T013824Z
LAST-MODIFIED:20241101T203827Z
UID:6069-1731772800-1731783600@womenscluboflakejovita.com
SUMMARY:Party in the Park
DESCRIPTION:
URL:https://womenscluboflakejovita.com/event/party-in-the-park/
LOCATION:Lake Jovita Community Park\, 13997 Thoroughbred Drive\, Dade City\, 33525
ATTACH;FMTTYPE=image/webp:https://womenscluboflakejovita.com/wp-content/uploads/2024/09/img_1_1730257648225.webp
END:VEVENT
BEGIN:VEVENT
DTSTART;TZID=America/New_York:20241116T100000
DTEND;TZID=America/New_York:20241116T160000
DTSTAMP:20260425T123510
CREATED:20241027T034801Z
LAST-MODIFIED:20241027T034802Z
UID:6104-1731751200-1731772800@womenscluboflakejovita.com
SUMMARY:The Battle of Dade City
DESCRIPTION:
URL:https://womenscluboflakejovita.com/event/the-battle-of-dade-city/
LOCATION:Pioneer Village Museum\, 15602 Pioneer Museum Rd.\, Dade City\, Florida\, 33523
ATTACH;FMTTYPE=image/png:https://womenscluboflakejovita.com/wp-content/uploads/2024/10/Battle-of-Dade-CIty.png
END:VEVENT
BEGIN:VEVENT
DTSTART;TZID=America/New_York:20241114T170000
DTEND;TZID=America/New_York:20241114T210000
DTSTAMP:20260425T123510
CREATED:20241027T032644Z
LAST-MODIFIED:20241027T032646Z
UID:6096-1731603600-1731618000@womenscluboflakejovita.com
SUMMARY:WCLJ November General Meeting
DESCRIPTION:Join us for our November 14 Women’s Club dinner event: “Little Black Dress” \n\n\n\nEmbrace the elegance of the classic little black dress! Come dressed in your favorite LBD and enjoy an evening of fun\, food\, and fabulous company. \n\n\n\nOur friends at Dillard’s will be on hand to help transform our lovely ladies from “Girl About Town” to “Breakfast at Tiffany’s” offering styling tips to elevate your look!
URL:https://womenscluboflakejovita.com/event/wclj-november-general-meeting/
LOCATION:Lake Jovita GCC\, 12900 Lake Jovita Blvd\, Dade City\, FL\, 33525\, United States
ATTACH;FMTTYPE=image/jpeg:https://womenscluboflakejovita.com/wp-content/uploads/2024/10/LBD.jpg
END:VEVENT
BEGIN:VEVENT
DTSTART;TZID=America/New_York:20241112T153000
DTEND;TZID=America/New_York:20241112T210000
DTSTAMP:20260425T123510
CREATED:20241027T044422Z
LAST-MODIFIED:20241027T044424Z
UID:6124-1731425400-1731445200@womenscluboflakejovita.com
SUMMARY:Lake Jovita Night at St. Leo University
DESCRIPTION:
URL:https://womenscluboflakejovita.com/event/lake-jovita-night-at-st-leo-university/
LOCATION:St Leo University\, 33701 County Road 52\, St. Leo\, Florida\, 33574\, United States
ATTACH;FMTTYPE=image/png:https://womenscluboflakejovita.com/wp-content/uploads/2024/10/St-Leo-Pride-Night.png
END:VEVENT
BEGIN:VEVENT
DTSTART;TZID=America/New_York:20241111T000000
DTEND;TZID=America/New_York:20241111T000000
DTSTAMP:20260425T123510
CREATED:20240220T031407Z
LAST-MODIFIED:20240220T031813Z
UID:5636-1731283200-1731283200@womenscluboflakejovita.com
SUMMARY:Veterans Day
DESCRIPTION:
URL:https://womenscluboflakejovita.com/event/veterans-day/
ATTACH;FMTTYPE=image/jpeg:https://womenscluboflakejovita.com/wp-content/uploads/2024/02/VETERANS.jpg
END:VEVENT
BEGIN:VEVENT
DTSTART;TZID=America/New_York:20241109T180000
DTEND;TZID=America/New_York:20241109T200000
DTSTAMP:20260425T123510
CREATED:20240919T054506Z
LAST-MODIFIED:20240919T054507Z
UID:6076-1731175200-1731182400@womenscluboflakejovita.com
SUMMARY:Boots and Bling Warriors Gala Fundraiser
DESCRIPTION:Save the date for a night filled with glitz\, fun and glamour while giving back to St. Anthony’s Catholic School in San Antonio.  \n\n\n\nInterested in sponsoring? Click here. Your support makes a meaningful impact on the students’ lives and community!
URL:https://womenscluboflakejovita.com/event/boots-and-bling-warriors-gala-fundraiser/
LOCATION:Waller Ranch\, 17307 Powerline Rd\, Dade City\, FL 33523\, Dade City\, Florida\, 33525\, United States
ATTACH;FMTTYPE=image/jpeg:https://womenscluboflakejovita.com/wp-content/uploads/2024/09/Screenshot_20240919_012756_Chrome.jpg
END:VEVENT
BEGIN:VEVENT
DTSTART;TZID=America/New_York:20241109T100000
DTEND;TZID=America/New_York:20241109T160000
DTSTAMP:20260425T123510
CREATED:20241101T204141Z
LAST-MODIFIED:20241101T223041Z
UID:6140-1731146400-1731168000@womenscluboflakejovita.com
SUMMARY:LJ Arts & Crafts Open House
DESCRIPTION:The vendors will be at 2 locations: 13228 Traditions Drive & at 13216 Legends Trail. Come out to support some of Women’s Club member as they showcase their talents!
URL:https://womenscluboflakejovita.com/event/lj-arts-crafts-open-house/
LOCATION:13228 Tradition Drive\, Dade City\, FL 33525\, 13228 Tradition\, Dade City\, Florida\, 33525\, United States
ATTACH;FMTTYPE=image/webp:https://womenscluboflakejovita.com/wp-content/uploads/2024/09/img_2_1730492975899.webp
ORGANIZER;CN="Geri LaFountain":MAILTO:geritherealtor@gmail.com
END:VEVENT
BEGIN:VEVENT
DTSTART;TZID=America/New_York:20241109T100000
DTEND;TZID=America/New_York:20241109T160000
DTSTAMP:20260425T123510
CREATED:20240807T035847Z
LAST-MODIFIED:20241027T033506Z
UID:5974-1731146400-1731168000@womenscluboflakejovita.com
SUMMARY:SCARECROW FESTIVAL Rescheduled!
DESCRIPTION:Experience the most extraordinary Fall Festival of the year! Pumpkin Patch\, Build Your Own Scarecrow\, Pony Rides\, Face Painting\, Costume Contest\, Children’s Games with prizes\, Children’s make and take Arts and Crafts\, Live Entertainment\, Vendors\, Food Trucks\, Traditional Craft Demonstrations\, Blacksmith\, Model Trains\, photo ops\, Pasco Sheriff’s Mounted Posse\, all museum buildings open and more. \n\n\n\n$10 adults\, $5 students\, under 5 free. Tickets at the Gate only. Parking is free\, parking donations appreciated\, but not required. Activities are a nominal fee\, live entertainment and shows are included in admission.Many activities and food are cash only.
URL:https://womenscluboflakejovita.com/event/scarecrow-festival/
LOCATION:Pioneer Village Museum\, 15602 Pioneer Museum Rd.\, Dade City\, Florida\, 33523
ATTACH;FMTTYPE=image/png:https://womenscluboflakejovita.com/wp-content/uploads/2024/08/Scarecrow_Festival_Poster_2024.png
END:VEVENT
BEGIN:VEVENT
DTSTART;TZID=America/New_York:20241108T170000
DTEND;TZID=America/New_York:20241110T170000
DTSTAMP:20260425T123510
CREATED:20241027T034216Z
LAST-MODIFIED:20241027T034217Z
UID:6101-1731085200-1731258000@womenscluboflakejovita.com
SUMMARY:Florida Bug Jam
DESCRIPTION:
URL:https://womenscluboflakejovita.com/event/florida-bug-jam/
ATTACH;FMTTYPE=image/jpeg:https://womenscluboflakejovita.com/wp-content/uploads/2024/10/Bug-Jam.jpg
END:VEVENT
BEGIN:VEVENT
DTSTART;TZID=America/New_York:20241105T000000
DTEND;TZID=America/New_York:20241105T000000
DTSTAMP:20260425T123510
CREATED:20240220T031407Z
LAST-MODIFIED:20240220T031407Z
UID:5635-1730764800-1730764800@womenscluboflakejovita.com
SUMMARY:Election Day
DESCRIPTION:
URL:https://womenscluboflakejovita.com/event/election-day/
END:VEVENT
BEGIN:VEVENT
DTSTART;TZID=America/New_York:20241102T120000
DTEND;TZID=America/New_York:20241102T170000
DTSTAMP:20260425T123510
CREATED:20241027T041054Z
LAST-MODIFIED:20241027T041055Z
UID:6117-1730548800-1730566800@womenscluboflakejovita.com
SUMMARY:Dade City Cruise In Car Show
DESCRIPTION:Pasco Ave. & 6th St.
URL:https://womenscluboflakejovita.com/event/dade-city-cruise-in-car-show-4/
ATTACH;FMTTYPE=image/jpeg:https://womenscluboflakejovita.com/wp-content/uploads/2024/09/car-show.jpg
ORGANIZER;CN="David West":MAILTO:davidwest@gmail.com
END:VEVENT
BEGIN:VEVENT
DTSTART;TZID=America/New_York:20241102T090000
DTEND;TZID=America/New_York:20241102T160000
DTSTAMP:20260425T123510
CREATED:20241027T041738Z
LAST-MODIFIED:20241027T041740Z
UID:6121-1730538000-1730563200@womenscluboflakejovita.com
SUMMARY:Fancy Flea Holiday Market
DESCRIPTION:The market location is changing to the corner of Meridian and 7th Street.
URL:https://womenscluboflakejovita.com/event/fancy-flea-holiday-market/
ATTACH;FMTTYPE=image/webp:https://womenscluboflakejovita.com/wp-content/uploads/2024/10/Fancy-Flea.webp
END:VEVENT
BEGIN:VEVENT
DTSTART;TZID=America/New_York:20241031T000000
DTEND;TZID=America/New_York:20241031T000000
DTSTAMP:20260425T123510
CREATED:20240220T031519Z
LAST-MODIFIED:20240220T031520Z
UID:5639-1730332800-1730332800@womenscluboflakejovita.com
SUMMARY:HALLOWEEN
DESCRIPTION:
URL:https://womenscluboflakejovita.com/event/halloween-2/
ATTACH;FMTTYPE=image/jpeg:https://womenscluboflakejovita.com/wp-content/uploads/2024/02/HALLOWEEN1.jpg
END:VEVENT
BEGIN:VEVENT
DTSTART;TZID=America/New_York:20241026T180000
DTEND;TZID=America/New_York:20241026T200000
DTSTAMP:20260425T123510
CREATED:20240907T022318Z
LAST-MODIFIED:20241027T023457Z
UID:6034-1729965600-1729972800@womenscluboflakejovita.com
SUMMARY:Lake Jovita Trunk or Treat
DESCRIPTION:It’s that time again!
URL:https://womenscluboflakejovita.com/event/lake-jovita-trunk-or-treat/
ATTACH;FMTTYPE=image/png:https://womenscluboflakejovita.com/wp-content/uploads/2024/09/image001.png
END:VEVENT
BEGIN:VEVENT
DTSTART;TZID=America/New_York:20241026T100000
DTEND;TZID=America/New_York:20241026T160000
DTSTAMP:20260425T123510
CREATED:20240919T011254Z
LAST-MODIFIED:20240919T011256Z
UID:6064-1729936800-1729958400@womenscluboflakejovita.com
SUMMARY:Florida Territory - A Turn to the 20th Century - Living History Event
DESCRIPTION:Take in history from acclaimed authors\, scholars and lecturers such as: Dale Cox\, Dr. Annette Fromm and Patsy West. The Saturday event will feature bare handed Alligator handling demonstrations at 11am and 2pm. Catch a 16th Century arms exhibition featuring: Armed combat between conquistadors and privateers\, the Spanish Tercio in combined arms\, demonstration of matchlock muskets and more. Experience Seminole artistry and culture presented by members of the Seminole Tribe of Florida\, featuring: dugout canoes\, bead and bandolier bag work\, native flute\, Seminole stickball and 20th Century Seminole culture. Learn about the War of 1812 and how it affected Florida.
URL:https://womenscluboflakejovita.com/event/florida-territory-a-turn-to-the-20th-century-living-history-event/
LOCATION:Pioneer Village Museum\, 15602 Pioneer Museum Rd.\, Dade City\, Florida\, 33523
ATTACH;FMTTYPE=image/png:https://womenscluboflakejovita.com/wp-content/uploads/2024/09/2024_Florida_Territory_Flyer_Oct_26.png
END:VEVENT
BEGIN:VEVENT
DTSTART;TZID=America/New_York:20241019T170000
DTEND;TZID=America/New_York:20241019T200000
DTSTAMP:20260425T123510
CREATED:20240919T010532Z
LAST-MODIFIED:20240919T010534Z
UID:6061-1729357200-1729368000@womenscluboflakejovita.com
SUMMARY:Music At The Museum
DESCRIPTION:Bluegrass and country music with Mark Johnson\, Emory Lester\, and Ken Taylor at the Pioneer Florida Museum & Village.
URL:https://womenscluboflakejovita.com/event/music-at-the-museum/
LOCATION:Pioneer Village Museum\, 15602 Pioneer Museum Rd.\, Dade City\, Florida\, 33523
ATTACH;FMTTYPE=image/png:https://womenscluboflakejovita.com/wp-content/uploads/2024/09/2024_Mark_Johnson_and_Emory_Lester_flier.png
END:VEVENT
END:VCALENDAR