BEGIN:VCALENDAR
VERSION:2.0
PRODID:-//Women&#039;s Club of Lake Jovita - ECPv6.15.3//NONSGML v1.0//EN
CALSCALE:GREGORIAN
METHOD:PUBLISH
X-WR-CALNAME:Women&#039;s Club of Lake Jovita
X-ORIGINAL-URL:https://womenscluboflakejovita.com
X-WR-CALDESC:Events for Women&#039;s Club of Lake Jovita
REFRESH-INTERVAL;VALUE=DURATION:PT1H
X-Robots-Tag:noindex
X-PUBLISHED-TTL:PT1H
BEGIN:VTIMEZONE
TZID:America/New_York
BEGIN:DAYLIGHT
TZOFFSETFROM:-0500
TZOFFSETTO:-0400
TZNAME:EDT
DTSTART:20240310T070000
END:DAYLIGHT
BEGIN:STANDARD
TZOFFSETFROM:-0400
TZOFFSETTO:-0500
TZNAME:EST
DTSTART:20241103T060000
END:STANDARD
END:VTIMEZONE
BEGIN:VEVENT
DTSTART;TZID=America/New_York:20241005T090000
DTEND;TZID=America/New_York:20241005T140000
DTSTAMP:20260425T223452
CREATED:20240807T034807Z
LAST-MODIFIED:20240807T035012Z
UID:5966-1728118800-1728136800@womenscluboflakejovita.com
SUMMARY:8th Annual Gardening 365 Festival & Plant Sale
DESCRIPTION:
URL:https://womenscluboflakejovita.com/event/8th-annual-gardening-365-festival-plant-sale-2/
LOCATION:Wesley Chapel District Park\, 7727 Boyette Rd\, Wesley Chapel\, 33545
ATTACH;FMTTYPE=image/jpeg:https://womenscluboflakejovita.com/wp-content/uploads/2024/08/Garden-365.jpg
END:VEVENT
BEGIN:VEVENT
DTSTART;TZID=America/New_York:20241005T090000
DTEND;TZID=America/New_York:20241006T170000
DTSTAMP:20260425T223452
CREATED:20240919T003126Z
LAST-MODIFIED:20240919T003128Z
UID:6048-1728118800-1728234000@womenscluboflakejovita.com
SUMMARY:Tennis Tournament
DESCRIPTION:Come out for some competitive matches the weekend of 10/5-6 at Pure Pace Tennis Academy located at Lake Jovita Golf and Country Club in Dade City\, FL. Doubles matches will begin at 9am on Saturday and Singles matches will begin between 9am – 10am on Saturday and Sunday. Doubles players will play 3 one set matches to 6 games and Singles players will play 2 full 2 set matches with tiebreaker in lieu of a 3rd set. Format may be adjusted as needed for weather. \n\n\n\nRegistration Links \n\n\n\nSingles Tournament: https://app.utrsports.net/events/257090 \n\n\n\nDoubles Tournament: https://app.utrsports.net/events/257098 \n\n\n\nContact Bryan Richter for additional information or questions. \n\n\n\nPurifyProServices.com \n\n\n\nPurePaceTennis.com \n\n\n\nCell 650.743.1202
URL:https://womenscluboflakejovita.com/event/tennis-tournament/
LOCATION:LJGCC\, 12900 Lake Jovita Blvd\, Dade City\, Florida\, 33525\, United States
ATTACH;FMTTYPE=image/png:https://womenscluboflakejovita.com/wp-content/uploads/2024/09/General-tournament-flyer.png
END:VEVENT
BEGIN:VEVENT
DTSTART;TZID=America/New_York:20241005T120000
DTEND;TZID=America/New_York:20241005T170000
DTSTAMP:20260425T223452
CREATED:20240919T005513Z
LAST-MODIFIED:20240919T005515Z
UID:6057-1728129600-1728147600@womenscluboflakejovita.com
SUMMARY:Dade City Car Show
DESCRIPTION:1st Saturday monthly\, Noon-5 PM\, around the Historic Pasco County Courthouse on Pasco Ave and 6th St. 
URL:https://womenscluboflakejovita.com/event/dade-city-car-show/
LOCATION:Downtown Dade City\, FL\, Dade City\, Florida\, United States
ATTACH;FMTTYPE=image/jpeg:https://womenscluboflakejovita.com/wp-content/uploads/2024/09/car-show.jpg
END:VEVENT
BEGIN:VEVENT
DTSTART;TZID=America/New_York:20241010T170000
DTEND;TZID=America/New_York:20241010T210000
DTSTAMP:20260425T223452
CREATED:20240910T012752Z
LAST-MODIFIED:20240910T012757Z
UID:6041-1728579600-1728594000@womenscluboflakejovita.com
SUMMARY:WCLJ October General Meeting
DESCRIPTION:Save the date! Join WCLJ for some Halloween fun! Signup and meeting information will be posted as they become available.
URL:https://womenscluboflakejovita.com/event/wclj-october-general-meeting/
LOCATION:Lake Jovita GCC\, 12900 Lake Jovita Blvd\, Dade City\, FL\, 33525\, United States
ATTACH;FMTTYPE=image/jpeg:https://womenscluboflakejovita.com/wp-content/uploads/2022/10/photo-5060613383716864-scaled.jpeg
END:VEVENT
BEGIN:VEVENT
DTSTART;TZID=America/New_York:20241014T000000
DTEND;TZID=America/New_York:20241014T000000
DTSTAMP:20260425T223452
CREATED:20240220T023527Z
LAST-MODIFIED:20240220T023527Z
UID:5607-1728864000-1728864000@womenscluboflakejovita.com
SUMMARY:Columbus Day
DESCRIPTION:
URL:https://womenscluboflakejovita.com/event/columbus-day/
LOCATION:Florida
END:VEVENT
BEGIN:VEVENT
DTSTART;TZID=America/New_York:20241019T170000
DTEND;TZID=America/New_York:20241019T200000
DTSTAMP:20260425T223452
CREATED:20240919T010532Z
LAST-MODIFIED:20240919T010534Z
UID:6061-1729357200-1729368000@womenscluboflakejovita.com
SUMMARY:Music At The Museum
DESCRIPTION:Bluegrass and country music with Mark Johnson\, Emory Lester\, and Ken Taylor at the Pioneer Florida Museum & Village.
URL:https://womenscluboflakejovita.com/event/music-at-the-museum/
LOCATION:Pioneer Village Museum\, 15602 Pioneer Museum Rd.\, Dade City\, Florida\, 33523
ATTACH;FMTTYPE=image/png:https://womenscluboflakejovita.com/wp-content/uploads/2024/09/2024_Mark_Johnson_and_Emory_Lester_flier.png
END:VEVENT
BEGIN:VEVENT
DTSTART;TZID=America/New_York:20241026T100000
DTEND;TZID=America/New_York:20241026T160000
DTSTAMP:20260425T223452
CREATED:20240919T011254Z
LAST-MODIFIED:20240919T011256Z
UID:6064-1729936800-1729958400@womenscluboflakejovita.com
SUMMARY:Florida Territory - A Turn to the 20th Century - Living History Event
DESCRIPTION:Take in history from acclaimed authors\, scholars and lecturers such as: Dale Cox\, Dr. Annette Fromm and Patsy West. The Saturday event will feature bare handed Alligator handling demonstrations at 11am and 2pm. Catch a 16th Century arms exhibition featuring: Armed combat between conquistadors and privateers\, the Spanish Tercio in combined arms\, demonstration of matchlock muskets and more. Experience Seminole artistry and culture presented by members of the Seminole Tribe of Florida\, featuring: dugout canoes\, bead and bandolier bag work\, native flute\, Seminole stickball and 20th Century Seminole culture. Learn about the War of 1812 and how it affected Florida.
URL:https://womenscluboflakejovita.com/event/florida-territory-a-turn-to-the-20th-century-living-history-event/
LOCATION:Pioneer Village Museum\, 15602 Pioneer Museum Rd.\, Dade City\, Florida\, 33523
ATTACH;FMTTYPE=image/png:https://womenscluboflakejovita.com/wp-content/uploads/2024/09/2024_Florida_Territory_Flyer_Oct_26.png
END:VEVENT
BEGIN:VEVENT
DTSTART;TZID=America/New_York:20241026T180000
DTEND;TZID=America/New_York:20241026T200000
DTSTAMP:20260425T223452
CREATED:20240907T022318Z
LAST-MODIFIED:20241027T023457Z
UID:6034-1729965600-1729972800@womenscluboflakejovita.com
SUMMARY:Lake Jovita Trunk or Treat
DESCRIPTION:It’s that time again!
URL:https://womenscluboflakejovita.com/event/lake-jovita-trunk-or-treat/
LOCATION:Florida
ATTACH;FMTTYPE=image/png:https://womenscluboflakejovita.com/wp-content/uploads/2024/09/image001.png
END:VEVENT
BEGIN:VEVENT
DTSTART;TZID=America/New_York:20241031T000000
DTEND;TZID=America/New_York:20241031T000000
DTSTAMP:20260425T223452
CREATED:20240220T031519Z
LAST-MODIFIED:20240220T031520Z
UID:5639-1730332800-1730332800@womenscluboflakejovita.com
SUMMARY:HALLOWEEN
DESCRIPTION:
URL:https://womenscluboflakejovita.com/event/halloween-2/
LOCATION:Florida
ATTACH;FMTTYPE=image/jpeg:https://womenscluboflakejovita.com/wp-content/uploads/2024/02/HALLOWEEN1.jpg
END:VEVENT
END:VCALENDAR