BEGIN:VCALENDAR
VERSION:2.0
PRODID:-//Women&#039;s Club of Lake Jovita - ECPv6.15.3//NONSGML v1.0//EN
CALSCALE:GREGORIAN
METHOD:PUBLISH
X-WR-CALNAME:Women&#039;s Club of Lake Jovita
X-ORIGINAL-URL:https://womenscluboflakejovita.com
X-WR-CALDESC:Events for Women&#039;s Club of Lake Jovita
REFRESH-INTERVAL;VALUE=DURATION:PT1H
X-Robots-Tag:noindex
X-PUBLISHED-TTL:PT1H
BEGIN:VTIMEZONE
TZID:America/New_York
BEGIN:DAYLIGHT
TZOFFSETFROM:-0500
TZOFFSETTO:-0400
TZNAME:EDT
DTSTART:20260308T070000
END:DAYLIGHT
BEGIN:STANDARD
TZOFFSETFROM:-0400
TZOFFSETTO:-0500
TZNAME:EST
DTSTART:20261101T060000
END:STANDARD
END:VTIMEZONE
BEGIN:VEVENT
DTSTART;TZID=America/New_York:20260207T100000
DTEND;TZID=America/New_York:20260207T160000
DTSTAMP:20260424T181629
CREATED:20260104T014751Z
LAST-MODIFIED:20260104T014752Z
UID:6604-1770458400-1770480000@womenscluboflakejovita.com
SUMMARY:Farm Festival & Quilt Show
DESCRIPTION:
URL:https://womenscluboflakejovita.com/event/farm-festival-quilt-show/
LOCATION:Pioneer Village Museum\, 15602 Pioneer Museum Rd.\, Dade City\, Florida\, 33523
ATTACH;FMTTYPE=image/png:https://womenscluboflakejovita.com/wp-content/uploads/2026/01/2026_Farm_Festival_Quilt_Show-1.png
END:VEVENT
BEGIN:VEVENT
DTSTART;TZID=America/New_York:20260212T170000
DTEND;TZID=America/New_York:20260212T210000
DTSTAMP:20260424T181629
CREATED:20260104T021339Z
LAST-MODIFIED:20260208T024643Z
UID:6615-1770915600-1770930000@womenscluboflakejovita.com
SUMMARY:Women's Club of Lake Jovita February General Meeting: Mardi Gras
DESCRIPTION:We are delighted to welcome back the always-popular Alan Darcy to celebrate Mardi Gras! Wear your favorite Mardi Gras outfits and beads!
URL:https://womenscluboflakejovita.com/event/womens-club-of-lake-jovita-february-general-meeting/
LOCATION:LJGCC\, 12900 Lake Jovita Blvd\, Dade City\, Florida\, 33525\, United States
ATTACH;FMTTYPE=image/jpeg:https://womenscluboflakejovita.com/wp-content/uploads/2026/01/alan-darcy.jpg
END:VEVENT
BEGIN:VEVENT
DTSTART;TZID=America/New_York:20260214T000000
DTEND;TZID=America/New_York:20260214T235959
DTSTAMP:20260424T181629
CREATED:20260208T025631Z
LAST-MODIFIED:20260208T025748Z
UID:6631-1771027200-1771113599@womenscluboflakejovita.com
SUMMARY:Happy Valentine's Day!
DESCRIPTION:
URL:https://womenscluboflakejovita.com/event/happy-valentines-day/
LOCATION:Florida
ATTACH;FMTTYPE=image/jpeg:https://womenscluboflakejovita.com/wp-content/uploads/2026/02/Valentines.jpg
END:VEVENT
BEGIN:VEVENT
DTSTART;TZID=America/New_York:20260214T100000
DTEND;TZID=America/New_York:20260329T180000
DTSTAMP:20260424T181629
CREATED:20260306T025942Z
LAST-MODIFIED:20260306T025945Z
UID:6655-1771063200-1774807200@womenscluboflakejovita.com
SUMMARY:Bay Area Renaissance Festival
DESCRIPTION:The festival invites guests to step into a 16th-century European village with 15 stages of entertainment\, over 100 talented artisans\, and immersive historical experiences.
URL:https://womenscluboflakejovita.com/event/bay-area-renaissance-festival-2/
LOCATION:Renaissance Festival\, 12838 Auton Rd.\, Dade City\, Florida\, United States
ATTACH;FMTTYPE=image/png:https://womenscluboflakejovita.com/wp-content/uploads/2026/03/resfair.png
END:VEVENT
BEGIN:VEVENT
DTSTART;TZID=America/New_York:20260214T140000
DTEND;TZID=America/New_York:20260215T230000
DTSTAMP:20260424T181629
CREATED:20260208T031009Z
LAST-MODIFIED:20260208T031011Z
UID:6638-1771077600-1771196400@womenscluboflakejovita.com
SUMMARY:Lunar Lantern Festival
DESCRIPTION:Join the Lunar Lantern Festival for a magical outdoor celebration of Lunar New Year\, taking place at Little Everglades Ranch in Dade City\, FL\, on February 14–15\, 2026.
URL:https://womenscluboflakejovita.com/event/lunar-lantern-festival/
LOCATION:Little Everglade Ranch\, 17951 Hamilton Road\, Dade City\, Florida\, 33523\, United States
ATTACH;FMTTYPE=image/jpeg:https://womenscluboflakejovita.com/wp-content/uploads/2026/02/lantern.jpg
END:VEVENT
BEGIN:VEVENT
DTSTART;TZID=America/New_York:20260216T000000
DTEND;TZID=America/New_York:20260216T235959
DTSTAMP:20260424T181629
CREATED:20260208T025911Z
LAST-MODIFIED:20260208T025914Z
UID:6634-1771200000-1771286399@womenscluboflakejovita.com
SUMMARY:President's Day
DESCRIPTION:
URL:https://womenscluboflakejovita.com/event/presidents-day/
LOCATION:Florida
ATTACH;FMTTYPE=image/jpeg:https://womenscluboflakejovita.com/wp-content/uploads/2026/02/Pres-Day.jpg
END:VEVENT
BEGIN:VEVENT
DTSTART;TZID=America/New_York:20260227T170000
DTEND;TZID=America/New_York:20260227T190000
DTSTAMP:20260424T181629
CREATED:20260208T025300Z
LAST-MODIFIED:20260208T025302Z
UID:6628-1772211600-1772218800@womenscluboflakejovita.com
SUMMARY:Women's Club of Lake Jovita Daytime Adventures
DESCRIPTION:Save the date for our next fun-filled outing\, “Sip & Step\,” happening on Friday\, February 27th\, from 5 to 7 PM at our clubhouse. Join us for tasty appetizers\, lively happy hour vibes\, and energetic line dancing led by instructor Bobbi. It’s the perfect chance to connect\, unwind\, and have some fun—Look for sign up invitation and be part of the fun!
URL:https://womenscluboflakejovita.com/event/womens-club-of-lake-jovita-daytime-adventures/
LOCATION:LJGCC\, 12900 Lake Jovita Blvd\, Dade City\, Florida\, 33525\, United States
ATTACH;FMTTYPE=image/png:https://womenscluboflakejovita.com/wp-content/uploads/2026/02/line-dance.png
END:VEVENT
END:VCALENDAR